FILENAME: O4811528.SES.56585.tif
QUADRANGLE_NAME: GOLD HILL
QUADRANT: SE
WEST_LONGITUDE: -115 33 45.00000
EAST_LONGITUDE: -115 30 0.00000
NORTH_LATITUDE: 48 33 45.00000
SOUTH_LATITUDE: 48 30 0.00000
PRODUCTION_DATE: 1997 3 5
RASTER_ORDER: LEFT_RIGHT/TOP_BOTTOM
BAND_ORGANIZATION: SINGLE FILE
BAND_CONTENT: BLACK&WHITE
BAND_CONTENT: UNDEFINED
BAND_CONTENT: UNDEFINED
BITS_PER_PIXEL: 8
SAMPLES_AND_LINES: 5424 7645
HORIZONTAL_DATUM: NAD83
HORIZONTAL_COORDINATE_SYSTEM: UTM
COORDINATE_ZONE: 11
HORIZONTAL_UNITS: METERS
HORIZONTAL_RESOLUTION: 1.00000
SECONDARY_HORIZONTAL_DATUM: NAD27
XY_ORIGIN: 605684.00000 5380210.00000
SECONDARY_XY_ORIGIN: 605761.39900 5379997.80400
NATION: US
STATE: MT
NW_QUAD_CORNER_XY: 606058.81200 5379820.35300
NE_QUAD_CORNER_XY: 610669.93700 5379908.98800
SE_QUAD_CORNERY_XY: 610806.24800 5372962.01700
SW_QUAD_CORNER_XY: 606189.44000 5372873.35900
SECONDARY_NW_QUAD_XY: 606062.18800 5379601.40500
SECONDARY_NE_QUAD_XY: 610673.46100 5379690.04200
SECONDARY_SE_QUAD_XY: 610809.77100 5372743.07900
SECONDARY_SW_QUAD_XY: 606192.81700 5372654.41800
RMSE_XY: 2.40000
IMAGE_SOURCE: BLACK AND WHITE FILM
SOURCE_IMAGE_ID: NAPP 8422 76
SOURCE_IMAGE_DATE: 1995 7 28
SOURCE_DEM_DATE: 1997 3 5
AGENCY: WESTERN MAPPING CENTER (WMC)
PRODUCER: USFS
PRODUCTION_SYSTEM: DV2.6.1 6/95OV2.4 5/95
COMPRESSION: UNDEFINED
STANDARD_VERSION: 1996 12
METADATA_DATE: 1997 11 2
DATA_FILE_SIZE: 41471904
BYTE_COUNT: 5424
