FILENAME: O4811528.NWS.56608.tif
QUADRANGLE_NAME: GOLD HILL
QUADRANT: NW
WEST_LONGITUDE: -115 37 30.00000
EAST_LONGITUDE: -115 33 45.00000
NORTH_LATITUDE: 48 37 30.00000
SOUTH_LATITUDE: 48 33 45.00000
PRODUCTION_DATE: 1997 3 5
RASTER_ORDER: LEFT_RIGHT/TOP_BOTTOM
BAND_ORGANIZATION: SINGLE FILE
BAND_CONTENT: BLACK&WHITE
BAND_CONTENT: UNDEFINED
BAND_CONTENT: UNDEFINED
BITS_PER_PIXEL: 8
SAMPLES_AND_LINES: 5412 7641
HORIZONTAL_DATUM: NAD83
HORIZONTAL_COORDINATE_SYSTEM: UTM
COORDINATE_ZONE: 11
HORIZONTAL_UNITS: METERS
HORIZONTAL_RESOLUTION: 1.00000
SECONDARY_HORIZONTAL_DATUM: NAD27
XY_ORIGIN: 600947.00000 5387068.00000
SECONDARY_XY_ORIGIN: 601024.37800 5386855.80900
NATION: US
STATE: MT
NW_QUAD_CORNER_XY: 601322.60100 5386682.58000
NE_QUAD_CORNER_XY: 605928.05500 5386767.41800
SE_QUAD_CORNERY_XY: 606058.81200 5379820.35300
SW_QUAD_CORNER_XY: 601447.67000 5379735.49200
SECONDARY_NW_QUAD_XY: 601325.83100 5386463.62200
SECONDARY_NE_QUAD_XY: 605931.43200 5386548.46300
SECONDARY_SE_QUAD_XY: 606062.18800 5379601.40500
SECONDARY_SW_QUAD_XY: 601450.90000 5379516.54100
RMSE_XY: 1.90000
IMAGE_SOURCE: BLACK AND WHITE FILM
SOURCE_IMAGE_ID: NAPP 8421 103
SOURCE_IMAGE_DATE: 1995 8 20
SOURCE_DEM_DATE: 1997 3 5
AGENCY: WESTERN MAPPING CENTER (WMC)
PRODUCER: USFS
PRODUCTION_SYSTEM: DV2.6.1 6/95OV2.4 5/95
COMPRESSION: UNDEFINED
STANDARD_VERSION: 1996 12
METADATA_DATE: 1997 11 2
DATA_FILE_SIZE: 41358504
BYTE_COUNT: 5412
