FILENAME: O4811529.SES.56541.tif
QUADRANGLE_NAME: BANFIELD MOUNTAIN
QUADRANT: SE
WEST_LONGITUDE: -115 26 15.00000
EAST_LONGITUDE: -115 22 30.00000
NORTH_LATITUDE: 48 33 45.00000
SOUTH_LATITUDE: 48 30 0.00000
PRODUCTION_DATE: 1997 2 20
RASTER_ORDER: LEFT_RIGHT/TOP_BOTTOM
BAND_ORGANIZATION: SINGLE FILE
BAND_CONTENT: BLACK&WHITE
BAND_CONTENT: UNDEFINED
BAND_CONTENT: UNDEFINED
BITS_PER_PIXEL: 8
SAMPLES_AND_LINES: 5436 7653
HORIZONTAL_DATUM: NAD83
HORIZONTAL_COORDINATE_SYSTEM: UTM
COORDINATE_ZONE: 11
HORIZONTAL_UNITS: METERS
HORIZONTAL_RESOLUTION: 1.00000
SECONDARY_HORIZONTAL_DATUM: NAD27
XY_ORIGIN: 614906.00000 5380399.00000
SECONDARY_XY_ORIGIN: 614983.00000 5380187.00000
NATION: US
STATE: MT
NW_QUAD_CORNER_XY: 615281.04700 5380001.39500
NE_QUAD_CORNER_XY: 619892.14000 5380097.57600
SE_QUAD_CORNERY_XY: 620039.81400 5373150.65600
SW_QUAD_CORNER_XY: 615423.03900 5373054.45000
SECONDARY_NW_QUAD_XY: 615284.71700 5379782.45300
SECONDARY_NE_QUAD_XY: 619895.95700 5379878.63700
SECONDARY_SE_QUAD_XY: 620043.63100 5372931.72400
SECONDARY_SW_QUAD_XY: 615426.70900 5372835.51500
RMSE_XY: 2.70000
IMAGE_SOURCE: BLACK AND WHITE FILM
SOURCE_IMAGE_ID: NAPP 8421 4
SOURCE_IMAGE_DATE: 1995 8 20
SOURCE_DEM_DATE: 1997 2 20
AGENCY: WESTERN MAPPING CENTER (WMC)
PRODUCER: USFS
PRODUCTION_SYSTEM: DV2.6.3 10/9OV2.4 5/95
COMPRESSION: UNDEFINED
STANDARD_VERSION: 1996 12
METADATA_DATE: 1997 11 2
DATA_FILE_SIZE: 41607144
BYTE_COUNT: 5436
