FILENAME: O4811531.NWS.56481.tif
QUADRANGLE_NAME: VOLCOUR GULCH
QUADRANT: NW
WEST_LONGITUDE: -115 15 0.00000
EAST_LONGITUDE: -115 11 15.00000
NORTH_LATITUDE: 48 37 30.00000
SOUTH_LATITUDE: 48 33 45.00000
PRODUCTION_DATE: 1997 3 4
RASTER_ORDER: LEFT_RIGHT/TOP_BOTTOM
BAND_ORGANIZATION: SINGLE FILE
BAND_CONTENT: BLACK&WHITE
BAND_CONTENT: UNDEFINED
BAND_CONTENT: UNDEFINED
BITS_PER_PIXEL: 8
SAMPLES_AND_LINES: 5445 7665
HORIZONTAL_DATUM: NAD83
HORIZONTAL_COORDINATE_SYSTEM: UTM
COORDINATE_ZONE: 11
HORIZONTAL_UNITS: METERS
HORIZONTAL_RESOLUTION: 1.00000
SECONDARY_HORIZONTAL_DATUM: NAD27
XY_ORIGIN: 628580.00000 5387661.00000
SECONDARY_XY_ORIGIN: 628657.75000 5387448.24000
NATION: US
STATE: MT
NW_QUAD_CORNER_XY: 628955.14000 5387248.15000
NE_QUAD_CORNER_XY: 633560.49000 5387355.62000
SE_QUAD_CORNERY_XY: 633725.38000 5380408.72000
SW_QUAD_CORNER_XY: 629114.34000 5380301.22000
SECONDARY_NW_QUAD_XY: 628959.25000 5387029.21000
SECONDARY_NE_QUAD_XY: 633564.75000 5387136.69000
SECONDARY_SE_QUAD_XY: 633729.63000 5380189.79000
SECONDARY_SW_QUAD_XY: 629118.45000 5380082.28000
RMSE_XY: 1.20000
IMAGE_SOURCE: BLACK AND WHITE FILM
SOURCE_IMAGE_ID: NAPP 8420 255
SOURCE_IMAGE_DATE: 1995 8 20
SOURCE_IMAGE_ID: NAPP 8420 152
SOURCE_IMAGE_DATE: 1995 8 20
SOURCE_DEM_DATE: 1997 3 4
AGENCY: WESTERN MAPPING CENTER (WMC)
PRODUCER: USFS
PRODUCTION_SYSTEM: DV2.6.3 10/9OV2.4 5/95
COMPRESSION: UNDEFINED
STANDARD_VERSION: 1996 12
METADATA_DATE: 1997 11 2
DATA_FILE_SIZE: 41741370
BYTE_COUNT: 5445
