FILENAME: O4811531.NES.56461.tif
QUADRANGLE_NAME: VOLCOUR GULCH
QUADRANT: NE
WEST_LONGITUDE: -115 11 15.00000
EAST_LONGITUDE: -115 7 30.00000
NORTH_LATITUDE: 48 37 30.00000
SOUTH_LATITUDE: 48 33 45.00000
PRODUCTION_DATE: 1997 3 4
RASTER_ORDER: LEFT_RIGHT/TOP_BOTTOM
BAND_ORGANIZATION: SINGLE FILE
BAND_CONTENT: BLACK&WHITE
BAND_CONTENT: UNDEFINED
BAND_CONTENT: UNDEFINED
BITS_PER_PIXEL: 8
SAMPLES_AND_LINES: 5453 7669
HORIZONTAL_DATUM: NAD83
HORIZONTAL_COORDINATE_SYSTEM: UTM
COORDINATE_ZONE: 11
HORIZONTAL_UNITS: METERS
HORIZONTAL_RESOLUTION: 1.00000
SECONDARY_HORIZONTAL_DATUM: NAD27
XY_ORIGIN: 633186.00000 5387772.00000
SECONDARY_XY_ORIGIN: 633263.75000 5387559.23000
NATION: US
STATE: MT
NW_QUAD_CORNER_XY: 633560.49000 5387355.62000
NE_QUAD_CORNER_XY: 638165.82000 5387466.87000
SE_QUAD_CORNERY_XY: 638336.39000 5380520.00000
SW_QUAD_CORNER_XY: 633725.38000 5380408.72000
SECONDARY_NW_QUAD_XY: 633564.75000 5387136.69000
SECONDARY_NE_QUAD_XY: 638170.23000 5387247.94000
SECONDARY_SE_QUAD_XY: 638340.80000 5380301.07000
SECONDARY_SW_QUAD_XY: 633729.63000 5380189.79000
RMSE_XY: 1.20000
IMAGE_SOURCE: BLACK AND WHITE FILM
SOURCE_IMAGE_ID: NAPP 8420 152
SOURCE_IMAGE_DATE: 1995 8 20
SOURCE_IMAGE_ID: NAPP 8420 255
SOURCE_IMAGE_DATE: 1995 8 20
SOURCE_DEM_DATE: 1997 3 4
AGENCY: WESTERN MAPPING CENTER (WMC)
PRODUCER: USFS
PRODUCTION_SYSTEM: DV2.6.3 10/9OV2.4 5/95
COMPRESSION: UNDEFINED
STANDARD_VERSION: 1996 12
METADATA_DATE: 1997 11 2
DATA_FILE_SIZE: 41824510
BYTE_COUNT: 5453
