FILENAME: O4811532.SWS.56440.tif
QUADRANGLE_NAME: DAVIS MOUNTAIN
QUADRANT: SW
WEST_LONGITUDE: -115 7 30.00000
EAST_LONGITUDE: -115 3 45.00000
NORTH_LATITUDE: 48 33 45.00000
SOUTH_LATITUDE: 48 30 0.00000
PRODUCTION_DATE: 1997 3 7
RASTER_ORDER: LEFT_RIGHT/TOP_BOTTOM
BAND_ORGANIZATION: SINGLE FILE
BAND_CONTENT: BLACK&WHITE
BAND_CONTENT: UNDEFINED
BAND_CONTENT: UNDEFINED
BITS_PER_PIXEL: 8
SAMPLES_AND_LINES: 5460 7671
HORIZONTAL_DATUM: NAD83
HORIZONTAL_COORDINATE_SYSTEM: UTM
COORDINATE_ZONE: 11
HORIZONTAL_UNITS: METERS
HORIZONTAL_RESOLUTION: 1.00000
SECONDARY_HORIZONTAL_DATUM: NAD27
XY_ORIGIN: 637962.00000 5380936.00000
SECONDARY_XY_ORIGIN: 638039.00000 5380724.00000
NATION: US
STATE: MT
NW_QUAD_CORNER_XY: 638336.32800 5380520.03600
NE_QUAD_CORNER_XY: 642947.32600 5380635.08700
SE_QUAD_CORNERY_XY: 643123.41600 5373688.31100
SW_QUAD_CORNER_XY: 638506.73400 5373573.23000
SECONDARY_NW_QUAD_XY: 638340.73200 5380301.11000
SECONDARY_NE_QUAD_XY: 642951.87700 5380416.16400
SECONDARY_SE_QUAD_XY: 643127.96700 5373469.39600
SECONDARY_SW_QUAD_XY: 638511.13800 5373354.31100
RMSE_XY: 2.60000
IMAGE_SOURCE: BLACK AND WHITE FILM
SOURCE_IMAGE_ID: NAPP 8420 123
SOURCE_IMAGE_DATE: 1995 8 20
SOURCE_DEM_DATE: 1997 3 7
AGENCY: WESTERN MAPPING CENTER (WMC)
PRODUCER: USFS
PRODUCTION_SYSTEM: DV2.6.3 10/9OV2.4 5/95
COMPRESSION: UNDEFINED
STANDARD_VERSION: 1996 12
METADATA_DATE: 1997 11 2
DATA_FILE_SIZE: 41889120
BYTE_COUNT: 5460
