FILENAME: O4811532.NWS.56441.tif
QUADRANGLE_NAME: DAVIS MOUNTAIN
QUADRANT: NW
WEST_LONGITUDE: -115 7 30.00000
EAST_LONGITUDE: -115 3 45.00000
NORTH_LATITUDE: 48 37 30.00000
SOUTH_LATITUDE: 48 33 45.00000
PRODUCTION_DATE: 1997 3 7
RASTER_ORDER: LEFT_RIGHT/TOP_BOTTOM
BAND_ORGANIZATION: SINGLE FILE
BAND_CONTENT: BLACK&WHITE
BAND_CONTENT: UNDEFINED
BAND_CONTENT: UNDEFINED
BITS_PER_PIXEL: 8
SAMPLES_AND_LINES: 5456 7671
HORIZONTAL_DATUM: NAD83
HORIZONTAL_COORDINATE_SYSTEM: UTM
COORDINATE_ZONE: 11
HORIZONTAL_UNITS: METERS
HORIZONTAL_RESOLUTION: 1.00000
SECONDARY_HORIZONTAL_DATUM: NAD27
XY_ORIGIN: 637791.00000 5387883.00000
SECONDARY_XY_ORIGIN: 637868.00000 5387671.00000
NATION: US
STATE: MT
NW_QUAD_CORNER_XY: 638165.75600 5387466.91100
NE_QUAD_CORNER_XY: 642771.06500 5387581.93000
SE_QUAD_CORNERY_XY: 642947.32600 5380635.08700
SW_QUAD_CORNER_XY: 638336.32800 5380520.03600
SECONDARY_NW_QUAD_XY: 638170.16000 5387247.97800
SECONDARY_NE_QUAD_XY: 642775.61600 5387363.00100
SECONDARY_SE_QUAD_XY: 642951.87700 5380416.16400
SECONDARY_SW_QUAD_XY: 638340.73200 5380301.11000
RMSE_XY: 4.00000
IMAGE_SOURCE: BLACK AND WHITE FILM
SOURCE_IMAGE_ID: NAPP 8420 125
SOURCE_IMAGE_DATE: 1995 8 20
SOURCE_DEM_DATE: 1997 3 7
AGENCY: WESTERN MAPPING CENTER (WMC)
PRODUCER: USFS
PRODUCTION_SYSTEM: DV2.6.3 10/9OV2.4 5/95
COMPRESSION: UNDEFINED
STANDARD_VERSION: 1996 12
METADATA_DATE: 1997 11 2
DATA_FILE_SIZE: 41858432
BYTE_COUNT: 5456
