FILENAME: O4811533.SES.56717.tif
QUADRANGLE_NAME: TROY
QUADRANT: SE
WEST_LONGITUDE: -115 56 15.00000
EAST_LONGITUDE: -115 52 30.00000
NORTH_LATITUDE: 48 26 15.00000
SOUTH_LATITUDE: 48 22 30.00000
PRODUCTION_DATE: 1997 2 23
RASTER_ORDER: LEFT_RIGHT/TOP_BOTTOM
BAND_ORGANIZATION: SINGLE FILE
BAND_CONTENT: BLACK&WHITE
BAND_CONTENT: UNDEFINED
BAND_CONTENT: UNDEFINED
BITS_PER_PIXEL: 8
SAMPLES_AND_LINES: 5400 7624
HORIZONTAL_DATUM: NAD83
HORIZONTAL_COORDINATE_SYSTEM: UTM
COORDINATE_ZONE: 11
HORIZONTAL_UNITS: METERS
HORIZONTAL_RESOLUTION: 1.00000
SECONDARY_HORIZONTAL_DATUM: NAD27
XY_ORIGIN: 578209.00000 5365841.00000
SECONDARY_XY_ORIGIN: 578285.80000 5365629.58300
NATION: US
STATE: MT
NW_QUAD_CORNER_XY: 578584.74800 5365473.61600
NE_QUAD_CORNER_XY: 583207.31200 5365539.65000
SE_QUAD_CORNERY_XY: 583309.33700 5358592.69900
SW_QUAD_CORNER_XY: 578681.10400 5358526.64800
SECONDARY_NW_QUAD_XY: 578587.24400 5365254.66900
SECONDARY_NE_QUAD_XY: 583209.95400 5365320.70600
SECONDARY_SE_QUAD_XY: 583311.97900 5358373.76300
SECONDARY_SW_QUAD_XY: 578683.59900 5358307.71000
RMSE_XY: 3.10000
IMAGE_SOURCE: BLACK AND WHITE FILM
SOURCE_IMAGE_ID: NAPP 8422 13
SOURCE_IMAGE_DATE: 1995 7 28
SOURCE_DEM_DATE: 1997 2 23
AGENCY: WESTERN MAPPING CENTER (WMC)
PRODUCER: USFS
PRODUCTION_SYSTEM: DV2.6.3 10/9OV2.4 5/95
COMPRESSION: UNDEFINED
STANDARD_VERSION: 1996 12
METADATA_DATE: 1997 11 2
DATA_FILE_SIZE: 41175000
BYTE_COUNT: 5400
