FILENAME: O4811533.NES.56718.tif
QUADRANGLE_NAME: TROY
QUADRANT: NE
WEST_LONGITUDE: -115 56 15.00000
EAST_LONGITUDE: -115 52 30.00000
NORTH_LATITUDE: 48 30 0.00000
SOUTH_LATITUDE: 48 26 15.00000
PRODUCTION_DATE: 1997 2 23
RASTER_ORDER: LEFT_RIGHT/TOP_BOTTOM
BAND_ORGANIZATION: SINGLE FILE
BAND_CONTENT: BLACK&WHITE
BAND_CONTENT: UNDEFINED
BAND_CONTENT: UNDEFINED
BITS_PER_PIXEL: 8
SAMPLES_AND_LINES: 5397 7625
HORIZONTAL_DATUM: NAD83
HORIZONTAL_COORDINATE_SYSTEM: UTM
COORDINATE_ZONE: 11
HORIZONTAL_UNITS: METERS
HORIZONTAL_RESOLUTION: 1.00000
SECONDARY_HORIZONTAL_DATUM: NAD27
XY_ORIGIN: 578113.00000 5372792.00000
SECONDARY_XY_ORIGIN: 578189.96000 5372580.52000
NATION: US
STATE: MT
NW_QUAD_CORNER_XY: 578488.37000 5372420.62000
NE_QUAD_CORNER_XY: 583105.25000 5372486.63000
SE_QUAD_CORNERY_XY: 583207.38000 5365539.61000
SW_QUAD_CORNER_XY: 578584.82000 5365473.58000
SECONDARY_NW_QUAD_XY: 578490.86000 5372201.66000
SECONDARY_NE_QUAD_XY: 583107.90000 5372267.68000
SECONDARY_SE_QUAD_XY: 583210.02000 5365320.66000
SECONDARY_SW_QUAD_XY: 578587.31000 5365254.63000
RMSE_XY: 2.20000
IMAGE_SOURCE: BLACK AND WHITE FILM
SOURCE_IMAGE_ID: NAPP 8422 11
SOURCE_IMAGE_DATE: 1995 7 28
SOURCE_IMAGE_ID: NAPP 8422 8419
SOURCE_IMAGE_DATE: 1995 7 28
SOURCE_IMAGE_ID: NAPP 8422 84
SOURCE_IMAGE_DATE: 1995 7 28
SOURCE_DEM_DATE: 1997 2 23
AGENCY: WESTERN MAPPING CENTER (WMC)
PRODUCER: USFS
PRODUCTION_SYSTEM: DV2.6.3 10/9OV2.4 5/95
COMPRESSION: UNDEFINED
STANDARD_VERSION: 1996 12
METADATA_DATE: 1997 11 2
DATA_FILE_SIZE: 41157522
BYTE_COUNT: 5397
