FILENAME: O4811534.SWS.56697.tif
QUADRANGLE_NAME: KOOTENAI FALLS
QUADRANT: SW
WEST_LONGITUDE: -115 52 30.00000
EAST_LONGITUDE: -115 48 45.00000
NORTH_LATITUDE: 48 26 15.00000
SOUTH_LATITUDE: 48 22 30.00000
PRODUCTION_DATE: 1997 2 28
RASTER_ORDER: LEFT_RIGHT/TOP_BOTTOM
BAND_ORGANIZATION: SINGLE FILE
BAND_CONTENT: BLACK&WHITE
BAND_CONTENT: UNDEFINED
BAND_CONTENT: UNDEFINED
BITS_PER_PIXEL: 8
SAMPLES_AND_LINES: 5409 7628
HORIZONTAL_DATUM: NAD83
HORIZONTAL_COORDINATE_SYSTEM: UTM
COORDINATE_ZONE: 11
HORIZONTAL_UNITS: METERS
HORIZONTAL_RESOLUTION: 1.00000
SECONDARY_HORIZONTAL_DATUM: NAD27
XY_ORIGIN: 582832.00000 5365914.00000
SECONDARY_XY_ORIGIN: 582908.81000 5365702.46000
NATION: US
STATE: MT
NW_QUAD_CORNER_XY: 583207.38000 5365539.61000
NE_QUAD_CORNER_XY: 587829.93000 5365609.42000
SE_QUAD_CORNERY_XY: 587937.63000 5358662.48000
SW_QUAD_CORNER_XY: 583309.40000 5358592.66000
SECONDARY_NW_QUAD_XY: 583210.02000 5365320.66000
SECONDARY_NE_QUAD_XY: 587832.72000 5365390.48000
SECONDARY_SE_QUAD_XY: 587940.41000 5358443.55000
SECONDARY_SW_QUAD_XY: 583312.05000 5358373.72000
RMSE_XY: 3.00000
IMAGE_SOURCE: BLACK AND WHITE FILM
SOURCE_IMAGE_ID: NAPP 8421 195
SOURCE_IMAGE_DATE: 1995 8 21
SOURCE_IMAGE_ID: NAPP 8421 193
SOURCE_IMAGE_DATE: 1995 8 21
SOURCE_DEM_DATE: 1997 2 28
AGENCY: WESTERN MAPPING CENTER (WMC)
PRODUCER: USFS
PRODUCTION_SYSTEM: DV2.6.3 10/9OV2.4 5/95
COMPRESSION: UNDEFINED
STANDARD_VERSION: 1996 12
METADATA_DATE: 1997 11 2
DATA_FILE_SIZE: 41265261
BYTE_COUNT: 5409
