FILENAME: O4811534.NWS.56698.tif
QUADRANGLE_NAME: KOOTENAI FALLS
QUADRANT: NW
WEST_LONGITUDE: -115 52 30.00000
EAST_LONGITUDE: -115 48 45.00000
NORTH_LATITUDE: 48 30 0.00000
SOUTH_LATITUDE: 48 26 15.00000
PRODUCTION_DATE: 1997 2 28
RASTER_ORDER: LEFT_RIGHT/TOP_BOTTOM
BAND_ORGANIZATION: SINGLE FILE
BAND_CONTENT: BLACK&WHITE
BAND_CONTENT: UNDEFINED
BAND_CONTENT: UNDEFINED
BITS_PER_PIXEL: 8
SAMPLES_AND_LINES: 5401 7628
HORIZONTAL_DATUM: NAD83
HORIZONTAL_COORDINATE_SYSTEM: UTM
COORDINATE_ZONE: 11
HORIZONTAL_UNITS: METERS
HORIZONTAL_RESOLUTION: 1.00000
SECONDARY_HORIZONTAL_DATUM: NAD27
XY_ORIGIN: 582730.00000 5372861.00000
SECONDARY_XY_ORIGIN: 582806.94000 5372649.41000
NATION: US
STATE: MT
NW_QUAD_CORNER_XY: 583105.25000 5372486.63000
NE_QUAD_CORNER_XY: 587722.13000 5372556.42000
SE_QUAD_CORNERY_XY: 587829.93000 5365609.42000
SW_QUAD_CORNER_XY: 583207.38000 5365539.61000
SECONDARY_NW_QUAD_XY: 583107.90000 5372267.68000
SECONDARY_NE_QUAD_XY: 587724.92000 5372337.47000
SECONDARY_SE_QUAD_XY: 587832.72000 5365390.48000
SECONDARY_SW_QUAD_XY: 583210.02000 5365320.66000
RMSE_XY: 3.00000
IMAGE_SOURCE: BLACK AND WHITE FILM
SOURCE_IMAGE_ID: NAPP 8421 193
SOURCE_IMAGE_DATE: 1995 8 21
SOURCE_IMAGE_ID: NAPP 8421 195
SOURCE_IMAGE_DATE: 1995 8 21
SOURCE_DEM_DATE: 1997 2 28
AGENCY: WESTERN MAPPING CENTER (WMC)
PRODUCER: USFS
PRODUCTION_SYSTEM: DV2.6.3 10/9OV2.4 5/95
COMPRESSION: UNDEFINED
STANDARD_VERSION: 1996 12
METADATA_DATE: 1997 11 2
DATA_FILE_SIZE: 41204229
BYTE_COUNT: 5401
