FILENAME: O4811535.SWS.56653.tif
QUADRANGLE_NAME: SCENERY MOUNTAIN
QUADRANT: SW
WEST_LONGITUDE: -115 45 0.00000
EAST_LONGITUDE: -115 41 15.00000
NORTH_LATITUDE: 48 26 15.00000
SOUTH_LATITUDE: 48 22 30.00000
PRODUCTION_DATE: 1997 3 1
RASTER_ORDER: LEFT_RIGHT/TOP_BOTTOM
BAND_ORGANIZATION: SINGLE FILE
BAND_CONTENT: BLACK&WHITE
BAND_CONTENT: UNDEFINED
BAND_CONTENT: UNDEFINED
BITS_PER_PIXEL: 8
SAMPLES_AND_LINES: 5417 7635
HORIZONTAL_DATUM: NAD83
HORIZONTAL_COORDINATE_SYSTEM: UTM
COORDINATE_ZONE: 11
HORIZONTAL_UNITS: METERS
HORIZONTAL_RESOLUTION: 1.00000
SECONDARY_HORIZONTAL_DATUM: NAD27
XY_ORIGIN: 592078.00000 5366065.00000
SECONDARY_XY_ORIGIN: 592154.83000 5365853.22000
NATION: US
STATE: MT
NW_QUAD_CORNER_XY: 592452.47000 5365683.00000
NE_QUAD_CORNER_XY: 597075.00000 5365760.36000
SE_QUAD_CORNERY_XY: 597194.03000 5358813.46000
SW_QUAD_CORNER_XY: 592565.83000 5358736.08000
SECONDARY_NW_QUAD_XY: 592455.41000 5365464.06000
SECONDARY_NE_QUAD_XY: 597078.08000 5365541.42000
SECONDARY_SE_QUAD_XY: 597197.11000 5358594.53000
SECONDARY_SW_QUAD_XY: 592568.77000 5358517.16000
RMSE_XY: 3.10000
IMAGE_SOURCE: BLACK AND WHITE FILM
SOURCE_IMAGE_ID: NAPP 8419 34
SOURCE_IMAGE_DATE: 1995 8 21
SOURCE_IMAGE_ID: NAPP 8419 33
SOURCE_IMAGE_DATE: 1995 8 21
SOURCE_DEM_DATE: 1997 3 1
AGENCY: WESTERN MAPPING CENTER (WMC)
PRODUCER: USFS
PRODUCTION_SYSTEM: DV2.6.1 6/95OV2.4 5/95
COMPRESSION: UNDEFINED
STANDARD_VERSION: 1996 12
METADATA_DATE: 1997 11 2
DATA_FILE_SIZE: 41364212
BYTE_COUNT: 5417
