FILENAME: O4811535.SES.56629.tif
QUADRANGLE_NAME: SCENERY MOUNTAIN
QUADRANT: SE
WEST_LONGITUDE: -115 41 15.00000
EAST_LONGITUDE: -115 37 30.00000
NORTH_LATITUDE: 48 26 15.00000
SOUTH_LATITUDE: 48 22 30.00000
PRODUCTION_DATE: 1997 3 1
RASTER_ORDER: LEFT_RIGHT/TOP_BOTTOM
BAND_ORGANIZATION: SINGLE FILE
BAND_CONTENT: BLACK&WHITE
BAND_CONTENT: UNDEFINED
BAND_CONTENT: UNDEFINED
BITS_PER_PIXEL: 8
SAMPLES_AND_LINES: 5424 7638
HORIZONTAL_DATUM: NAD83
HORIZONTAL_COORDINATE_SYSTEM: UTM
COORDINATE_ZONE: 11
HORIZONTAL_UNITS: METERS
HORIZONTAL_RESOLUTION: 1.00000
SECONDARY_HORIZONTAL_DATUM: NAD27
XY_ORIGIN: 596700.00000 5366143.00000
SECONDARY_XY_ORIGIN: 596776.00000 5365931.00000
NATION: US
STATE: MT
NW_QUAD_CORNER_XY: 597074.93100 5365760.39800
NE_QUAD_CORNER_XY: 601697.44300 5365841.53000
SE_QUAD_CORNERY_XY: 601822.14700 5358894.65600
SW_QUAD_CORNER_XY: 597193.96400 5358813.50300
SECONDARY_NW_QUAD_XY: 597078.01300 5365541.46000
SECONDARY_NE_QUAD_XY: 601700.67300 5365622.59500
SECONDARY_SE_QUAD_XY: 601825.37600 5358675.73000
SECONDARY_SW_QUAD_XY: 597197.04700 5358594.57500
RMSE_XY: 4.60000
IMAGE_SOURCE: BLACK AND WHITE FILM
SOURCE_IMAGE_ID: NAPP 8421 112
SOURCE_IMAGE_DATE: 1995 8 20
SOURCE_DEM_DATE: 1997 3 1
AGENCY: WESTERN MAPPING CENTER (WMC)
PRODUCER: USFS
PRODUCTION_SYSTEM: DV2.6.1 6/95OV2.4 5/95
COMPRESSION: UNDEFINED
STANDARD_VERSION: 1996 12
METADATA_DATE: 1997 11 2
DATA_FILE_SIZE: 41433936
BYTE_COUNT: 5424
