FILENAME: O4811536.SWS.56605.tif
QUADRANGLE_NAME: LIBBY
QUADRANT: SW
WEST_LONGITUDE: -115 37 30.00000
EAST_LONGITUDE: -115 33 45.00000
NORTH_LATITUDE: 48 26 15.00000
SOUTH_LATITUDE: 48 22 30.00000
PRODUCTION_DATE: 1997 3 5
RASTER_ORDER: LEFT_RIGHT/TOP_BOTTOM
BAND_ORGANIZATION: SINGLE FILE
BAND_CONTENT: BLACK&WHITE
BAND_CONTENT: UNDEFINED
BAND_CONTENT: UNDEFINED
BITS_PER_PIXEL: 8
SAMPLES_AND_LINES: 5429 7642
HORIZONTAL_DATUM: NAD83
HORIZONTAL_COORDINATE_SYSTEM: UTM
COORDINATE_ZONE: 11
HORIZONTAL_UNITS: METERS
HORIZONTAL_RESOLUTION: 1.00000
SECONDARY_HORIZONTAL_DATUM: NAD27
XY_ORIGIN: 601323.00000 5366231.00000
SECONDARY_XY_ORIGIN: 601400.11000 5366018.95000
NATION: US
STATE: MT
NW_QUAD_CORNER_XY: 601697.51000 5365841.49000
NE_QUAD_CORNER_XY: 606320.01000 5365926.40000
SE_QUAD_CORNERY_XY: 606450.38000 5358979.54000
SW_QUAD_CORNER_XY: 601822.21000 5358894.62000
SECONDARY_NW_QUAD_XY: 601700.74000 5365622.55000
SECONDARY_NE_QUAD_XY: 606323.39000 5365707.46000
SECONDARY_SE_QUAD_XY: 606453.76000 5358760.62000
SECONDARY_SW_QUAD_XY: 601825.44000 5358675.69000
RMSE_XY: 1.40000
IMAGE_SOURCE: BLACK AND WHITE FILM
SOURCE_IMAGE_ID: NAPP 8421 97
SOURCE_IMAGE_DATE: 1995 8 20
SOURCE_IMAGE_ID: NAPP 8421 8422
SOURCE_IMAGE_DATE: 1995 8 20
SOURCE_IMAGE_ID: NAPP 8421 72
SOURCE_IMAGE_DATE: 1995 8 20
SOURCE_DEM_DATE: 1997 3 5
AGENCY: WESTERN MAPPING CENTER (WMC)
PRODUCER: USFS
PRODUCTION_SYSTEM: DV2.6.1 6/95OV2.4 5/95
COMPRESSION: UNDEFINED
STANDARD_VERSION: 1996 12
METADATA_DATE: 1997 11 2
DATA_FILE_SIZE: 41493847
BYTE_COUNT: 5429
