FILENAME: O4811536.NWS.56606.tif
QUADRANGLE_NAME: LIBBY
QUADRANT: NW
WEST_LONGITUDE: -115 37 30.00000
EAST_LONGITUDE: -115 33 45.00000
NORTH_LATITUDE: 48 30 0.00000
SOUTH_LATITUDE: 48 26 15.00000
PRODUCTION_DATE: 1997 3 5
RASTER_ORDER: LEFT_RIGHT/TOP_BOTTOM
BAND_ORGANIZATION: SINGLE FILE
BAND_CONTENT: BLACK&WHITE
BAND_CONTENT: UNDEFINED
BAND_CONTENT: UNDEFINED
BITS_PER_PIXEL: 8
SAMPLES_AND_LINES: 5424 7641
HORIZONTAL_DATUM: NAD83
HORIZONTAL_COORDINATE_SYSTEM: UTM
COORDINATE_ZONE: 11
HORIZONTAL_UNITS: METERS
HORIZONTAL_RESOLUTION: 1.00000
SECONDARY_HORIZONTAL_DATUM: NAD27
XY_ORIGIN: 601198.00000 5373174.00000
SECONDARY_XY_ORIGIN: 601275.17400 5372961.99000
NATION: US
STATE: MT
NW_QUAD_CORNER_XY: 601572.61800 5372788.47500
NE_QUAD_CORNER_XY: 606189.44000 5372873.35900
SE_QUAD_CORNERY_XY: 606319.94200 5365926.43600
SW_QUAD_CORNER_XY: 601697.44300 5365841.53000
SECONDARY_NW_QUAD_XY: 601575.84700 5372569.53100
SECONDARY_NE_QUAD_XY: 606192.81700 5372654.41800
SECONDARY_SE_QUAD_XY: 606323.31800 5365707.50400
SECONDARY_SW_QUAD_XY: 601700.67300 5365622.59500
RMSE_XY: 2.50000
IMAGE_SOURCE: BLACK AND WHITE FILM
SOURCE_IMAGE_ID: NAPP 8421 99
SOURCE_IMAGE_DATE: 1995 8 20
SOURCE_DEM_DATE: 1997 3 5
AGENCY: WESTERN MAPPING CENTER (WMC)
PRODUCER: USFS
PRODUCTION_SYSTEM: DV2.6.1 6/95OV2.4 5/95
COMPRESSION: UNDEFINED
STANDARD_VERSION: 1996 12
METADATA_DATE: 1997 11 2
DATA_FILE_SIZE: 41450208
BYTE_COUNT: 5424
