FILENAME: O4811536.NES.56584.tif
QUADRANGLE_NAME: LIBBY
QUADRANT: NE
WEST_LONGITUDE: -115 33 45.00000
EAST_LONGITUDE: -115 30 0.00000
NORTH_LATITUDE: 48 30 0.00000
SOUTH_LATITUDE: 48 26 15.00000
PRODUCTION_DATE: 1997 3 5
RASTER_ORDER: LEFT_RIGHT/TOP_BOTTOM
BAND_ORGANIZATION: SINGLE FILE
BAND_CONTENT: BLACK&WHITE
BAND_CONTENT: UNDEFINED
BAND_CONTENT: UNDEFINED
BITS_PER_PIXEL: 8
SAMPLES_AND_LINES: 5429 7646
HORIZONTAL_DATUM: NAD83
HORIZONTAL_COORDINATE_SYSTEM: UTM
COORDINATE_ZONE: 11
HORIZONTAL_UNITS: METERS
HORIZONTAL_RESOLUTION: 1.00000
SECONDARY_HORIZONTAL_DATUM: NAD27
XY_ORIGIN: 605814.00000 5373267.00000
SECONDARY_XY_ORIGIN: 605891.32000 5373054.89000
NATION: US
STATE: MT
NW_QUAD_CORNER_XY: 606189.51000 5372873.32000
NE_QUAD_CORNER_XY: 610806.31000 5372961.98000
SE_QUAD_CORNERY_XY: 610942.49000 5366015.08000
SW_QUAD_CORNER_XY: 606320.01000 5365926.40000
SECONDARY_NW_QUAD_XY: 606192.88000 5372654.38000
SECONDARY_NE_QUAD_XY: 610809.84000 5372743.04000
SECONDARY_SE_QUAD_XY: 610946.02000 5365796.15000
SECONDARY_SW_QUAD_XY: 606323.39000 5365707.46000
RMSE_XY: 1.40000
IMAGE_SOURCE: BLACK AND WHITE FILM
SOURCE_IMAGE_ID: NAPP 8422 74
SOURCE_IMAGE_DATE: 1995 7 28
SOURCE_IMAGE_ID: NAPP 8422 72
SOURCE_IMAGE_DATE: 1995 7 28
SOURCE_DEM_DATE: 1997 3 5
AGENCY: WESTERN MAPPING CENTER (WMC)
PRODUCER: USFS
PRODUCTION_SYSTEM: DV2.6.1 6/95OV2.4 5/95
COMPRESSION: UNDEFINED
STANDARD_VERSION: 1996 12
METADATA_DATE: 1997 11 2
DATA_FILE_SIZE: 41515563
BYTE_COUNT: 5429
