FILENAME: O4811537.SES.56539.tif
QUADRANGLE_NAME: VERMICULITE MOUNTAIN
QUADRANT: SE
WEST_LONGITUDE: -115 26 15.00000
EAST_LONGITUDE: -115 22 30.00000
NORTH_LATITUDE: 48 26 15.00000
SOUTH_LATITUDE: 48 22 30.00000
PRODUCTION_DATE: 1997 2 21
RASTER_ORDER: LEFT_RIGHT/TOP_BOTTOM
BAND_ORGANIZATION: SINGLE FILE
BAND_CONTENT: BLACK&WHITE
BAND_CONTENT: UNDEFINED
BAND_CONTENT: UNDEFINED
BITS_PER_PIXEL: 8
SAMPLES_AND_LINES: 5444 7653
HORIZONTAL_DATUM: NAD83
HORIZONTAL_COORDINATE_SYSTEM: UTM
COORDINATE_ZONE: 11
HORIZONTAL_UNITS: METERS
HORIZONTAL_RESOLUTION: 1.00000
SECONDARY_HORIZONTAL_DATUM: NAD27
XY_ORIGIN: 615190.00000 5366505.00000
SECONDARY_XY_ORIGIN: 615267.47900 5366292.63200
NATION: US
STATE: MT
NW_QUAD_CORNER_XY: 615564.89000 5366107.57000
NE_QUAD_CORNER_XY: 620187.34000 5366203.81000
SE_QUAD_CORNERY_XY: 620334.73000 5359257.02000
SW_QUAD_CORNER_XY: 615706.61000 5359160.77000
SECONDARY_NW_QUAD_XY: 615568.56000 5365888.65000
SECONDARY_NE_QUAD_XY: 620191.16000 5365984.88000
SECONDARY_SE_QUAD_XY: 620338.55000 5359038.11000
SECONDARY_SW_QUAD_XY: 615710.28000 5358941.85000
RMSE_XY: 3.20000
IMAGE_SOURCE: BLACK AND WHITE FILM
SOURCE_IMAGE_ID: NAPP 8421 8
SOURCE_IMAGE_DATE: 1995 8 20
SOURCE_DEM_DATE: 1997 2 21
AGENCY: WESTERN MAPPING CENTER (WMC)
PRODUCER: USFS
PRODUCTION_SYSTEM: DV2.6.3 10/9OV2.4 5/95
COMPRESSION: UNDEFINED
STANDARD_VERSION: 1996 12
METADATA_DATE: 1997 11 2
DATA_FILE_SIZE: 41668376
BYTE_COUNT: 5444
