FILENAME: O4811537.NES.56540.tif
QUADRANGLE_NAME: VERMICULITE MOUNTAIN
QUADRANT: NE
WEST_LONGITUDE: -115 26 15.00000
EAST_LONGITUDE: -115 22 30.00000
NORTH_LATITUDE: 48 30 0.00000
SOUTH_LATITUDE: 48 26 15.00000
PRODUCTION_DATE: 1997 2 21
RASTER_ORDER: LEFT_RIGHT/TOP_BOTTOM
BAND_ORGANIZATION: SINGLE FILE
BAND_CONTENT: BLACK&WHITE
BAND_CONTENT: UNDEFINED
BAND_CONTENT: UNDEFINED
BITS_PER_PIXEL: 8
SAMPLES_AND_LINES: 5440 7653
HORIZONTAL_DATUM: NAD83
HORIZONTAL_COORDINATE_SYSTEM: UTM
COORDINATE_ZONE: 11
HORIZONTAL_UNITS: METERS
HORIZONTAL_RESOLUTION: 1.00000
SECONDARY_HORIZONTAL_DATUM: NAD27
XY_ORIGIN: 615048.00000 5373452.00000
SECONDARY_XY_ORIGIN: 615125.51200 5373239.71100
NATION: US
STATE: MT
NW_QUAD_CORNER_XY: 615423.04000 5373054.45000
NE_QUAD_CORNER_XY: 620039.81000 5373150.66000
SE_QUAD_CORNERY_XY: 620187.34000 5366203.81000
SW_QUAD_CORNER_XY: 615564.89000 5366107.57000
SECONDARY_NW_QUAD_XY: 615426.71000 5372835.51000
SECONDARY_NE_QUAD_XY: 620043.63000 5372931.72000
SECONDARY_SE_QUAD_XY: 620191.16000 5365984.88000
SECONDARY_SW_QUAD_XY: 615568.56000 5365888.65000
RMSE_XY: 2.90000
IMAGE_SOURCE: BLACK AND WHITE FILM
SOURCE_IMAGE_ID: NAPP 8421 6
SOURCE_IMAGE_DATE: 1995 8 20
SOURCE_DEM_DATE: 1997 2 21
AGENCY: WESTERN MAPPING CENTER (WMC)
PRODUCER: USFS
PRODUCTION_SYSTEM: DV2.6.3 10/9OV2.4 5/95
COMPRESSION: UNDEFINED
STANDARD_VERSION: 1996 12
METADATA_DATE: 1997 11 2
DATA_FILE_SIZE: 41637760
BYTE_COUNT: 5440
