FILENAME: O4811539.SWS.56478.tif
QUADRANGLE_NAME: CRIPPLE HORSE MOUNTAIN
QUADRANT: SW
WEST_LONGITUDE: -115 15 0.00000
EAST_LONGITUDE: -115 11 15.00000
NORTH_LATITUDE: 48 26 15.00000
SOUTH_LATITUDE: 48 22 30.00000
PRODUCTION_DATE: 1997 3 5
RASTER_ORDER: LEFT_RIGHT/TOP_BOTTOM
BAND_ORGANIZATION: SINGLE FILE
BAND_CONTENT: BLACK&WHITE
BAND_CONTENT: UNDEFINED
BAND_CONTENT: UNDEFINED
BITS_PER_PIXEL: 8
SAMPLES_AND_LINES: 5460 7664
HORIZONTAL_DATUM: NAD83
HORIZONTAL_COORDINATE_SYSTEM: UTM
COORDINATE_ZONE: 11
HORIZONTAL_UNITS: METERS
HORIZONTAL_RESOLUTION: 1.00000
SECONDARY_HORIZONTAL_DATUM: NAD27
XY_ORIGIN: 629058.00000 5366816.00000
SECONDARY_XY_ORIGIN: 629135.68800 5366603.49000
NATION: US
STATE: MT
NW_QUAD_CORNER_XY: 629432.19600 5366407.59700
NE_QUAD_CORNER_XY: 634054.59500 5366515.15500
SE_QUAD_CORNERY_XY: 634218.99600 5359568.45500
SW_QUAD_CORNER_XY: 629590.92600 5359460.86900
SECONDARY_NW_QUAD_XY: 629436.30600 5366188.68000
SECONDARY_NE_QUAD_XY: 634058.85200 5366296.24200
SECONDARY_SE_QUAD_XY: 634223.25300 5359349.55100
SECONDARY_SW_QUAD_XY: 629595.03600 5359241.96100
RMSE_XY: 3.80000
IMAGE_SOURCE: BLACK AND WHITE FILM
SOURCE_IMAGE_ID: NAPP 8420 249
SOURCE_IMAGE_DATE: 1995 8 20
SOURCE_DEM_DATE: 1997 3 5
AGENCY: WESTERN MAPPING CENTER (WMC)
PRODUCER: USFS
PRODUCTION_SYSTEM: DV2.6.3 10/9OV2.4 5/95
COMPRESSION: UNDEFINED
STANDARD_VERSION: 1996 12
METADATA_DATE: 1997 11 2
DATA_FILE_SIZE: 41850900
BYTE_COUNT: 5460
