FILENAME: O4811540.SWS.56438.tif
QUADRANGLE_NAME: WARLAND PEAK
QUADRANT: SW
WEST_LONGITUDE: -115 7 30.00000
EAST_LONGITUDE: -115 3 45.00000
NORTH_LATITUDE: 48 26 15.00000
SOUTH_LATITUDE: 48 22 30.00000
PRODUCTION_DATE: 1997 3 12
RASTER_ORDER: LEFT_RIGHT/TOP_BOTTOM
BAND_ORGANIZATION: SINGLE FILE
BAND_CONTENT: BLACK&WHITE
BAND_CONTENT: UNDEFINED
BAND_CONTENT: UNDEFINED
BITS_PER_PIXEL: 8
SAMPLES_AND_LINES: 5472 7672
HORIZONTAL_DATUM: NAD83
HORIZONTAL_COORDINATE_SYSTEM: UTM
COORDINATE_ZONE: 11
HORIZONTAL_UNITS: METERS
HORIZONTAL_RESOLUTION: 1.00000
SECONDARY_HORIZONTAL_DATUM: NAD27
XY_ORIGIN: 638303.00000 5367043.00000
SECONDARY_XY_ORIGIN: 638380.64800 5366830.44800
NATION: US
STATE: MT
NW_QUAD_CORNER_XY: 638676.97400 5366626.49100
NE_QUAD_CORNER_XY: 643299.33400 5366741.60200
SE_QUAD_CORNERY_XY: 643475.08100 5359794.96000
SW_QUAD_CORNER_XY: 638847.04800 5359679.81900
SECONDARY_NW_QUAD_XY: 638681.37800 5366407.58100
SECONDARY_NE_QUAD_XY: 643303.88500 5366522.69600
SECONDARY_SE_QUAD_XY: 643479.63100 5359576.06300
SECONDARY_SW_QUAD_XY: 638851.45200 5359460.91900
RMSE_XY: 2.50000
IMAGE_SOURCE: BLACK AND WHITE FILM
SOURCE_IMAGE_ID: NAPP 8420 119
SOURCE_IMAGE_DATE: 1995 8 20
SOURCE_DEM_DATE: 1997 3 12
AGENCY: WESTERN MAPPING CENTER (WMC)
PRODUCER: USFS
PRODUCTION_SYSTEM: DV2.6.3 10/9OV2.4 5/95
COMPRESSION: UNDEFINED
STANDARD_VERSION: 1996 12
METADATA_DATE: 1997 11 2
DATA_FILE_SIZE: 41986656
BYTE_COUNT: 5472
