FILENAME: O4811540.NES.56422.tif
QUADRANGLE_NAME: WARLAND PEAK
QUADRANT: NE
WEST_LONGITUDE: -115 3 45.00000
EAST_LONGITUDE: -115 0 0.00000
NORTH_LATITUDE: 48 30 0.00000
SOUTH_LATITUDE: 48 26 15.00000
PRODUCTION_DATE: 1997 3 12
RASTER_ORDER: LEFT_RIGHT/TOP_BOTTOM
BAND_ORGANIZATION: SINGLE FILE
BAND_CONTENT: BLACK&WHITE
BAND_CONTENT: UNDEFINED
BAND_CONTENT: UNDEFINED
BITS_PER_PIXEL: 8
SAMPLES_AND_LINES: 5473 7676
HORIZONTAL_DATUM: NAD83
HORIZONTAL_COORDINATE_SYSTEM: UTM
COORDINATE_ZONE: 11
HORIZONTAL_UNITS: METERS
HORIZONTAL_RESOLUTION: 1.00000
SECONDARY_HORIZONTAL_DATUM: NAD27
XY_ORIGIN: 642750.00000 5374112.00000
SECONDARY_XY_ORIGIN: 642827.65000 5373899.36000
NATION: US
STATE: MT
NW_QUAD_CORNER_XY: 643123.48000 5373688.27000
NE_QUAD_CORNER_XY: 647740.14000 5373807.13000
SE_QUAD_CORNERY_XY: 647921.74000 5366860.45000
SW_QUAD_CORNER_XY: 643299.40000 5366741.56000
SECONDARY_NW_QUAD_XY: 643128.03000 5373469.36000
SECONDARY_NE_QUAD_XY: 647744.84000 5373588.22000
SECONDARY_SE_QUAD_XY: 647926.44000 5366641.55000
SECONDARY_SW_QUAD_XY: 643303.95000 5366522.66000
RMSE_XY: 2.50000
IMAGE_SOURCE: BLACK AND WHITE FILM
SOURCE_IMAGE_ID: NAPP 8420 18
SOURCE_IMAGE_DATE: 1995 8 20
SOURCE_IMAGE_ID: NAPP 8420 20
SOURCE_IMAGE_DATE: 1995 8 20
SOURCE_DEM_DATE: 1997 3 12
AGENCY: WESTERN MAPPING CENTER (WMC)
PRODUCER: USFS
PRODUCTION_SYSTEM: DV2.6.3 10/9OV2.4 5/95
COMPRESSION: UNDEFINED
STANDARD_VERSION: 1996 12
METADATA_DATE: 1997 11 2
DATA_FILE_SIZE: 42016221
BYTE_COUNT: 5473
