FILENAME: O4811541.SWS.56735.tif
QUADRANGLE_NAME: SPAR LAKE
QUADRANT: SW
WEST_LONGITUDE: -116 0 0.00000
EAST_LONGITUDE: -115 56 15.00000
NORTH_LATITUDE: 48 18 45.00000
SOUTH_LATITUDE: 48 15 0.00000
PRODUCTION_DATE: 1997 2 28
RASTER_ORDER: LEFT_RIGHT/TOP_BOTTOM
BAND_ORGANIZATION: SINGLE FILE
BAND_CONTENT: BLACK&WHITE
BAND_CONTENT: UNDEFINED
BAND_CONTENT: UNDEFINED
BITS_PER_PIXEL: 8
SAMPLES_AND_LINES: 5409 7621
HORIZONTAL_DATUM: NAD83
HORIZONTAL_COORDINATE_SYSTEM: UTM
COORDINATE_ZONE: 11
HORIZONTAL_UNITS: METERS
HORIZONTAL_RESOLUTION: 1.00000
SECONDARY_HORIZONTAL_DATUM: NAD27
XY_ORIGIN: 573768.00000 5351885.00000
SECONDARY_XY_ORIGIN: 573844.41000 5351673.86000
NATION: US
STATE: MT
NW_QUAD_CORNER_XY: 574143.53000 5351517.42000
NE_QUAD_CORNER_XY: 578777.43000 5351579.71000
SE_QUAD_CORNERY_XY: 578873.60000 5344632.89000
SW_QUAD_CORNER_XY: 574234.03000 5344570.58000
SECONDARY_NW_QUAD_XY: 574145.87000 5351298.49000
SECONDARY_NE_QUAD_XY: 578779.93000 5351360.78000
SECONDARY_SE_QUAD_XY: 578876.09000 5344413.97000
SECONDARY_SW_QUAD_XY: 574236.38000 5344351.66000
RMSE_XY: 2.50000
IMAGE_SOURCE: BLACK AND WHITE FILM
SOURCE_IMAGE_ID: NAPP 8419 90
SOURCE_IMAGE_DATE: 1995 8 21
SOURCE_IMAGE_ID: NAPP 8419 88
SOURCE_IMAGE_DATE: 1995 8 21
SOURCE_DEM_DATE: 1997 2 28
AGENCY: WESTERN MAPPING CENTER (WMC)
PRODUCER: USFS
PRODUCTION_SYSTEM: DV2.6.3 10/9OV2.4 5/95
COMPRESSION: UNDEFINED
STANDARD_VERSION: 1996 12
METADATA_DATE: 1997 11 2
DATA_FILE_SIZE: 41227398
BYTE_COUNT: 5409
