FILENAME: O4811541.SES.56715.tif
QUADRANGLE_NAME: SPAR LAKE
QUADRANT: SE
WEST_LONGITUDE: -115 56 15.00000
EAST_LONGITUDE: -115 52 30.00000
NORTH_LATITUDE: 48 18 45.00000
SOUTH_LATITUDE: 48 15 0.00000
PRODUCTION_DATE: 1997 2 28
RASTER_ORDER: LEFT_RIGHT/TOP_BOTTOM
BAND_ORGANIZATION: SINGLE FILE
BAND_CONTENT: BLACK&WHITE
BAND_CONTENT: UNDEFINED
BAND_CONTENT: UNDEFINED
BITS_PER_PIXEL: 8
SAMPLES_AND_LINES: 5413 7625
HORIZONTAL_DATUM: NAD83
HORIZONTAL_COORDINATE_SYSTEM: UTM
COORDINATE_ZONE: 11
HORIZONTAL_UNITS: METERS
HORIZONTAL_RESOLUTION: 1.00000
SECONDARY_HORIZONTAL_DATUM: NAD27
XY_ORIGIN: 578402.00000 5351951.00000
SECONDARY_XY_ORIGIN: 578478.47000 5351739.71000
NATION: US
STATE: MT
NW_QUAD_CORNER_XY: 578777.43000 5351579.71000
NE_QUAD_CORNER_XY: 583411.33000 5351645.78000
SE_QUAD_CORNERY_XY: 583513.15000 5344698.97000
SW_QUAD_CORNER_XY: 578873.60000 5344632.89000
SECONDARY_NW_QUAD_XY: 578779.93000 5351360.78000
SECONDARY_NE_QUAD_XY: 583413.97000 5351426.85000
SECONDARY_SE_QUAD_XY: 583515.80000 5344480.06000
SECONDARY_SW_QUAD_XY: 578876.09000 5344413.97000
RMSE_XY: 2.50000
IMAGE_SOURCE: BLACK AND WHITE FILM
SOURCE_IMAGE_ID: NAPP 8422 17
SOURCE_IMAGE_DATE: 1995 7 28
SOURCE_IMAGE_ID: NAPP 8422 18
SOURCE_IMAGE_DATE: 1995 7 28
SOURCE_IMAGE_ID: NAPP 8422 90
SOURCE_IMAGE_DATE: 1995 7 28
SOURCE_DEM_DATE: 1997 2 28
AGENCY: WESTERN MAPPING CENTER (WMC)
PRODUCER: USFS
PRODUCTION_SYSTEM: DV2.6.3 10/9OV2.4 5/95
COMPRESSION: UNDEFINED
STANDARD_VERSION: 1996 12
METADATA_DATE: 1997 11 2
DATA_FILE_SIZE: 41279538
BYTE_COUNT: 5413
