FILENAME: O4811541.NWS.56736.tif
QUADRANGLE_NAME: SPAR LAKE
QUADRANT: NW
WEST_LONGITUDE: -116 0 0.00000
EAST_LONGITUDE: -115 56 15.00000
NORTH_LATITUDE: 48 22 30.00000
SOUTH_LATITUDE: 48 18 45.00000
PRODUCTION_DATE: 1997 2 28
RASTER_ORDER: LEFT_RIGHT/TOP_BOTTOM
BAND_ORGANIZATION: SINGLE FILE
BAND_CONTENT: BLACK&WHITE
BAND_CONTENT: UNDEFINED
BAND_CONTENT: UNDEFINED
BITS_PER_PIXEL: 8
SAMPLES_AND_LINES: 5403 7623
HORIZONTAL_DATUM: NAD83
HORIZONTAL_COORDINATE_SYSTEM: UTM
COORDINATE_ZONE: 11
HORIZONTAL_UNITS: METERS
HORIZONTAL_RESOLUTION: 1.00000
SECONDARY_HORIZONTAL_DATUM: NAD27
XY_ORIGIN: 573678.00000 5358840.00000
SECONDARY_XY_ORIGIN: 573754.60000 5358628.78000
NATION: US
STATE: MT
NW_QUAD_CORNER_XY: 574052.93000 5358464.33000
NE_QUAD_CORNER_XY: 578681.17000 5358526.61000
SE_QUAD_CORNERY_XY: 578777.43000 5351579.71000
SW_QUAD_CORNER_XY: 574143.53000 5351517.42000
SECONDARY_NW_QUAD_XY: 574055.28000 5358245.39000
SECONDARY_NE_QUAD_XY: 578683.67000 5358307.67000
SECONDARY_SE_QUAD_XY: 578779.93000 5351360.78000
SECONDARY_SW_QUAD_XY: 574145.87000 5351298.49000
RMSE_XY: 2.50000
IMAGE_SOURCE: BLACK AND WHITE FILM
SOURCE_IMAGE_ID: NAPP 8419 88
SOURCE_IMAGE_DATE: 1995 8 21
SOURCE_IMAGE_ID: NAPP 8419 53
SOURCE_IMAGE_DATE: 1995 8 21
SOURCE_IMAGE_ID: NAPP 8419 90
SOURCE_IMAGE_DATE: 1995 8 21
SOURCE_IMAGE_ID: NAPP 8419 15
SOURCE_IMAGE_DATE: 1995 8 21
SOURCE_DEM_DATE: 1997 2 28
AGENCY: WESTERN MAPPING CENTER (WMC)
PRODUCER: USFS
PRODUCTION_SYSTEM: DV2.6.3 10/9OV2.4 5/95
COMPRESSION: UNDEFINED
STANDARD_VERSION: 1996 12
METADATA_DATE: 1997 11 2
DATA_FILE_SIZE: 41192472
BYTE_COUNT: 5403
