FILENAME: O4811542.NWS.56696.tif
QUADRANGLE_NAME: CROWELL MOUNTAIN
QUADRANT: NW
WEST_LONGITUDE: -115 52 30.00000
EAST_LONGITUDE: -115 48 45.00000
NORTH_LATITUDE: 48 22 30.00000
SOUTH_LATITUDE: 48 18 45.00000
PRODUCTION_DATE: 1997 2 28
RASTER_ORDER: LEFT_RIGHT/TOP_BOTTOM
BAND_ORGANIZATION: SINGLE FILE
BAND_CONTENT: BLACK&WHITE
BAND_CONTENT: UNDEFINED
BAND_CONTENT: UNDEFINED
BITS_PER_PIXEL: 8
SAMPLES_AND_LINES: 5412 7628
HORIZONTAL_DATUM: NAD83
HORIZONTAL_COORDINATE_SYSTEM: UTM
COORDINATE_ZONE: 11
HORIZONTAL_UNITS: METERS
HORIZONTAL_RESOLUTION: 1.00000
SECONDARY_HORIZONTAL_DATUM: NAD27
XY_ORIGIN: 582934.00000 5358964.00000
SECONDARY_XY_ORIGIN: 583010.00000 5358753.00000
NATION: US
STATE: MT
NW_QUAD_CORNER_XY: 583309.33700 5358592.69900
NE_QUAD_CORNER_XY: 587937.55900 5358662.52500
SE_QUAD_CORNERY_XY: 588045.14700 5351715.66400
SW_QUAD_CORNER_XY: 583411.26200 5351645.82000
SECONDARY_NW_QUAD_XY: 583311.97900 5358373.76300
SECONDARY_NE_QUAD_XY: 587940.34700 5358443.59200
SECONDARY_SE_QUAD_XY: 588047.93600 5351496.74100
SECONDARY_SW_QUAD_XY: 583413.90400 5351426.89500
RMSE_XY: 2.30000
IMAGE_SOURCE: BLACK AND WHITE FILM
SOURCE_IMAGE_ID: NAPP 8421 197
SOURCE_IMAGE_DATE: 1995 8 21
SOURCE_DEM_DATE: 1997 2 28
AGENCY: WESTERN MAPPING CENTER (WMC)
PRODUCER: USFS
PRODUCTION_SYSTEM: DV2.6.1 6/95OV2.4 5/95
COMPRESSION: UNDEFINED
STANDARD_VERSION: 1996 12
METADATA_DATE: 1997 11 2
DATA_FILE_SIZE: 41288148
BYTE_COUNT: 5412
