FILENAME: O4811542.NES.56674.tif
QUADRANGLE_NAME: CROWELL MOUNTAIN
QUADRANT: NE
WEST_LONGITUDE: -115 48 45.00000
EAST_LONGITUDE: -115 45 0.00000
NORTH_LATITUDE: 48 22 30.00000
SOUTH_LATITUDE: 48 18 45.00000
PRODUCTION_DATE: 1997 2 28
RASTER_ORDER: LEFT_RIGHT/TOP_BOTTOM
BAND_ORGANIZATION: SINGLE FILE
BAND_CONTENT: BLACK&WHITE
BAND_CONTENT: UNDEFINED
BAND_CONTENT: UNDEFINED
BITS_PER_PIXEL: 8
SAMPLES_AND_LINES: 5417 7632
HORIZONTAL_DATUM: NAD83
HORIZONTAL_COORDINATE_SYSTEM: UTM
COORDINATE_ZONE: 11
HORIZONTAL_UNITS: METERS
HORIZONTAL_RESOLUTION: 1.00000
SECONDARY_HORIZONTAL_DATUM: NAD27
XY_ORIGIN: 587563.00000 5359041.00000
SECONDARY_XY_ORIGIN: 587639.71000 5358829.38000
NATION: US
STATE: MT
NW_QUAD_CORNER_XY: 587937.63000 5358662.48000
NE_QUAD_CORNER_XY: 592565.83000 5358736.08000
SE_QUAD_CORNERY_XY: 592679.09000 5351789.24000
SW_QUAD_CORNER_XY: 588045.21000 5351715.62000
SECONDARY_NW_QUAD_XY: 587940.41000 5358443.55000
SECONDARY_NE_QUAD_XY: 592568.77000 5358517.16000
SECONDARY_SE_QUAD_XY: 592682.02000 5351570.32000
SECONDARY_SW_QUAD_XY: 588048.00000 5351496.70000
RMSE_XY: 2.30000
IMAGE_SOURCE: BLACK AND WHITE FILM
SOURCE_IMAGE_ID: NAPP 8421 157
SOURCE_IMAGE_DATE: 1995 8 20
SOURCE_IMAGE_ID: NAPP 8421 159
SOURCE_IMAGE_DATE: 1995 8 20
SOURCE_IMAGE_ID: NAPP 8421 32
SOURCE_IMAGE_DATE: 1995 8 20
SOURCE_IMAGE_ID: NAPP 8421 34
SOURCE_IMAGE_DATE: 1995 8 20
SOURCE_DEM_DATE: 1997 2 28
AGENCY: WESTERN MAPPING CENTER (WMC)
PRODUCER: USFS
PRODUCTION_SYSTEM: DV2.6.1 6/95OV2.4 5/95
COMPRESSION: UNDEFINED
STANDARD_VERSION: 1996 12
METADATA_DATE: 1997 11 2
DATA_FILE_SIZE: 41347961
BYTE_COUNT: 5417
