FILENAME: O4811543.NWS.56652.tif
QUADRANGLE_NAME: TREASURE MOUNTAIN
QUADRANT: NW
WEST_LONGITUDE: -115 45 0.00000
EAST_LONGITUDE: -115 41 15.00000
NORTH_LATITUDE: 48 22 30.00000
SOUTH_LATITUDE: 48 18 45.00000
PRODUCTION_DATE: 1997 3 7
RASTER_ORDER: LEFT_RIGHT/TOP_BOTTOM
BAND_ORGANIZATION: SINGLE FILE
BAND_CONTENT: BLACK&WHITE
BAND_CONTENT: UNDEFINED
BAND_CONTENT: UNDEFINED
BITS_PER_PIXEL: 8
SAMPLES_AND_LINES: 5426 7637
HORIZONTAL_DATUM: NAD83
HORIZONTAL_COORDINATE_SYSTEM: UTM
COORDINATE_ZONE: 11
HORIZONTAL_UNITS: METERS
HORIZONTAL_RESOLUTION: 1.00000
SECONDARY_HORIZONTAL_DATUM: NAD27
XY_ORIGIN: 592191.00000 5359123.00000
SECONDARY_XY_ORIGIN: 592267.75000 5358911.25000
NATION: US
STATE: MT
NW_QUAD_CORNER_XY: 592565.83000 5358736.08000
NE_QUAD_CORNER_XY: 597194.03000 5358813.46000
SE_QUAD_CORNERY_XY: 597312.95000 5351866.64000
SW_QUAD_CORNER_XY: 592679.09000 5351789.24000
SECONDARY_NW_QUAD_XY: 592568.77000 5358517.16000
SECONDARY_NE_QUAD_XY: 597197.11000 5358594.53000
SECONDARY_SE_QUAD_XY: 597316.03000 5351647.72000
SECONDARY_SW_QUAD_XY: 592682.02000 5351570.32000
RMSE_XY: 5.30000
IMAGE_SOURCE: BLACK AND WHITE FILM
SOURCE_IMAGE_ID: NAPP 8419 32
SOURCE_IMAGE_DATE: 1995 8 21
SOURCE_IMAGE_ID: NAPP 8419 33
SOURCE_IMAGE_DATE: 1995 8 21
SOURCE_IMAGE_ID: NAPP 8419 31
SOURCE_IMAGE_DATE: 1995 8 21
SOURCE_IMAGE_ID: NAPP 8419 114
SOURCE_IMAGE_DATE: 1995 8 21
SOURCE_DEM_DATE: 1997 3 7
AGENCY: WESTERN MAPPING CENTER (WMC)
PRODUCER: USFS
PRODUCTION_SYSTEM: DV2.6.3 10/9OV2.4 5/95
COMPRESSION: UNDEFINED
STANDARD_VERSION: 1996 12
METADATA_DATE: 1997 11 2
DATA_FILE_SIZE: 41443788
BYTE_COUNT: 5426
