FILENAME: O4811543.NES.56628.tif
QUADRANGLE_NAME: TREASURE MOUNTAIN
QUADRANT: NE
WEST_LONGITUDE: -115 41 15.00000
EAST_LONGITUDE: -115 37 30.00000
NORTH_LATITUDE: 48 22 30.00000
SOUTH_LATITUDE: 48 18 45.00000
PRODUCTION_DATE: 1997 3 7
RASTER_ORDER: LEFT_RIGHT/TOP_BOTTOM
BAND_ORGANIZATION: SINGLE FILE
BAND_CONTENT: BLACK&WHITE
BAND_CONTENT: UNDEFINED
BAND_CONTENT: UNDEFINED
BITS_PER_PIXEL: 8
SAMPLES_AND_LINES: 5429 7639
HORIZONTAL_DATUM: NAD83
HORIZONTAL_COORDINATE_SYSTEM: UTM
COORDINATE_ZONE: 11
HORIZONTAL_UNITS: METERS
HORIZONTAL_RESOLUTION: 1.00000
SECONDARY_HORIZONTAL_DATUM: NAD27
XY_ORIGIN: 596819.00000 5359200.00000
SECONDARY_XY_ORIGIN: 596895.89000 5358988.08000
NATION: US
STATE: MT
NW_QUAD_CORNER_XY: 597194.03000 5358813.46000
NE_QUAD_CORNER_XY: 601822.21000 5358894.62000
SE_QUAD_CORNERY_XY: 601946.80000 5351947.81000
SW_QUAD_CORNER_XY: 597312.95000 5351866.64000
SECONDARY_NW_QUAD_XY: 597197.11000 5358594.53000
SECONDARY_NE_QUAD_XY: 601825.44000 5358675.69000
SECONDARY_SE_QUAD_XY: 601950.02000 5351728.90000
SECONDARY_SW_QUAD_XY: 597316.03000 5351647.72000
RMSE_XY: 8.00000
IMAGE_SOURCE: BLACK AND WHITE FILM
SOURCE_IMAGE_ID: NAPP 8421 114
SOURCE_IMAGE_DATE: 1995 8 20
SOURCE_IMAGE_ID: NAPP 8421 115
SOURCE_IMAGE_DATE: 1995 8 20
SOURCE_DEM_DATE: 1997 3 7
AGENCY: WESTERN MAPPING CENTER (WMC)
PRODUCER: USFS
PRODUCTION_SYSTEM: DV2.6.3 10/9OV2.4 5/95
COMPRESSION: UNDEFINED
STANDARD_VERSION: 1996 12
METADATA_DATE: 1997 11 2
DATA_FILE_SIZE: 41477560
BYTE_COUNT: 5429
