FILENAME: O4811544.NES.56582.tif
QUADRANGLE_NAME: LITTLE HOODOO MOUNTAIN
QUADRANT: NE
WEST_LONGITUDE: -115 33 45.00000
EAST_LONGITUDE: -115 30 0.00000
NORTH_LATITUDE: 48 22 30.00000
SOUTH_LATITUDE: 48 18 45.00000
PRODUCTION_DATE: 1997 3 11
RASTER_ORDER: LEFT_RIGHT/TOP_BOTTOM
BAND_ORGANIZATION: SINGLE FILE
BAND_CONTENT: BLACK&WHITE
BAND_CONTENT: UNDEFINED
BAND_CONTENT: UNDEFINED
BITS_PER_PIXEL: 8
SAMPLES_AND_LINES: 5440 7645
HORIZONTAL_DATUM: NAD83
HORIZONTAL_COORDINATE_SYSTEM: UTM
COORDINATE_ZONE: 11
HORIZONTAL_UNITS: METERS
HORIZONTAL_RESOLUTION: 1.00000
SECONDARY_HORIZONTAL_DATUM: NAD27
XY_ORIGIN: 606075.00000 5359369.00000
SECONDARY_XY_ORIGIN: 606152.19900 5359156.73300
NATION: US
STATE: MT
NW_QUAD_CORNER_XY: 606450.31600 5358979.58400
NE_QUAD_CORNER_XY: 611078.47000 5359068.28900
SE_QUAD_CORNERY_XY: 611214.38100 5352121.53000
SW_QUAD_CORNER_XY: 606580.56200 5352032.80300
SECONDARY_NW_QUAD_XY: 606453.69200 5358760.66100
SECONDARY_NE_QUAD_XY: 611081.99300 5358849.36800
SECONDARY_SE_QUAD_XY: 611217.90400 5351902.62000
SECONDARY_SW_QUAD_XY: 606583.93800 5351813.89100
RMSE_XY: 2.90000
IMAGE_SOURCE: BLACK AND WHITE FILM
SOURCE_IMAGE_ID: NAPP 8422 70
SOURCE_IMAGE_DATE: 1995 7 28
SOURCE_DEM_DATE: 1997 3 11
AGENCY: WESTERN MAPPING CENTER (WMC)
PRODUCER: USFS
PRODUCTION_SYSTEM: DV2.6.3 10/9OV2.4 5/95
COMPRESSION: UNDEFINED
STANDARD_VERSION: 1996 12
METADATA_DATE: 1997 11 2
DATA_FILE_SIZE: 41594240
BYTE_COUNT: 5440
