FILENAME: O4811545.SWS.56559.tif
QUADRANGLE_NAME: SWEDE MOUNTAIN
QUADRANT: SW
WEST_LONGITUDE: -115 30 0.00000
EAST_LONGITUDE: -115 26 15.00000
NORTH_LATITUDE: 48 18 45.00000
SOUTH_LATITUDE: 48 15 0.00000
PRODUCTION_DATE: 1997 2 21
RASTER_ORDER: LEFT_RIGHT/TOP_BOTTOM
BAND_ORGANIZATION: SINGLE FILE
BAND_CONTENT: BLACK&WHITE
BAND_CONTENT: UNDEFINED
BAND_CONTENT: UNDEFINED
BITS_PER_PIXEL: 8
SAMPLES_AND_LINES: 5452 7648
HORIZONTAL_DATUM: NAD83
HORIZONTAL_COORDINATE_SYSTEM: UTM
COORDINATE_ZONE: 11
HORIZONTAL_UNITS: METERS
HORIZONTAL_RESOLUTION: 1.00000
SECONDARY_HORIZONTAL_DATUM: NAD27
XY_ORIGIN: 610840.00000 5352515.00000
SECONDARY_XY_ORIGIN: 610917.29800 5352302.43900
NATION: US
STATE: MT
NW_QUAD_CORNER_XY: 611214.38100 5352121.53000
NE_QUAD_CORNER_XY: 615848.18500 5352214.03400
SE_QUAD_CORNERY_XY: 615989.62300 5345267.36900
SW_QUAD_CORNER_XY: 611350.15900 5345174.84300
SECONDARY_NW_QUAD_XY: 611217.90400 5351902.62000
SECONDARY_NE_QUAD_XY: 615851.85500 5351995.12700
SECONDARY_SE_QUAD_XY: 615993.29200 5345048.47300
SECONDARY_SW_QUAD_XY: 611353.68200 5344955.94400
RMSE_XY: 1.40000
IMAGE_SOURCE: BLACK AND WHITE FILM
SOURCE_IMAGE_ID: NAPP 8422 87
SOURCE_IMAGE_DATE: 1995 7 28
SOURCE_DEM_DATE: 1997 2 21
AGENCY: WESTERN MAPPING CENTER (WMC)
PRODUCER: USFS
PRODUCTION_SYSTEM: DV2.6.3 10/9OV2.4 5/95
COMPRESSION: UNDEFINED
STANDARD_VERSION: 1996 12
METADATA_DATE: 1997 11 2
DATA_FILE_SIZE: 41702348
BYTE_COUNT: 5452
