FILENAME: O4811545.NWS.56560.tif
QUADRANGLE_NAME: SWEDE MOUNTAIN
QUADRANT: NW
WEST_LONGITUDE: -115 30 0.00000
EAST_LONGITUDE: -115 26 15.00000
NORTH_LATITUDE: 48 22 30.00000
SOUTH_LATITUDE: 48 18 45.00000
PRODUCTION_DATE: 1997 2 21
RASTER_ORDER: LEFT_RIGHT/TOP_BOTTOM
BAND_ORGANIZATION: SINGLE FILE
BAND_CONTENT: BLACK&WHITE
BAND_CONTENT: UNDEFINED
BAND_CONTENT: UNDEFINED
BITS_PER_PIXEL: 8
SAMPLES_AND_LINES: 5444 7649
HORIZONTAL_DATUM: NAD83
HORIZONTAL_COORDINATE_SYSTEM: UTM
COORDINATE_ZONE: 11
HORIZONTAL_UNITS: METERS
HORIZONTAL_RESOLUTION: 1.00000
SECONDARY_HORIZONTAL_DATUM: NAD27
XY_ORIGIN: 610704.00000 5359462.00000
SECONDARY_XY_ORIGIN: 610781.35100 5359249.56100
NATION: US
STATE: MT
NW_QUAD_CORNER_XY: 611078.47000 5359068.28900
NE_QUAD_CORNER_XY: 615706.60900 5359160.76900
SE_QUAD_CORNERY_XY: 615848.18500 5352214.03400
SW_QUAD_CORNER_XY: 611214.38100 5352121.53000
SECONDARY_NW_QUAD_XY: 611081.99300 5358849.36800
SECONDARY_NE_QUAD_XY: 615710.27800 5358941.85200
SECONDARY_SE_QUAD_XY: 615851.85500 5351995.12700
SECONDARY_SW_QUAD_XY: 611217.90400 5351902.62000
RMSE_XY: 2.00000
IMAGE_SOURCE: BLACK AND WHITE FILM
SOURCE_IMAGE_ID: NAPP 8422 85
SOURCE_IMAGE_DATE: 1995 7 28
SOURCE_DEM_DATE: 1997 2 21
AGENCY: WESTERN MAPPING CENTER (WMC)
PRODUCER: USFS
PRODUCTION_SYSTEM: DV2.6.3 10/9OV2.4 5/95
COMPRESSION: UNDEFINED
STANDARD_VERSION: 1996 12
METADATA_DATE: 1997 11 2
DATA_FILE_SIZE: 41646600
BYTE_COUNT: 5444
