FILENAME: O4811546.SWS.56515.tif
QUADRANGLE_NAME: TONY PEAK
QUADRANT: SW
WEST_LONGITUDE: -115 22 30.00000
EAST_LONGITUDE: -115 18 45.00000
NORTH_LATITUDE: 48 18 45.00000
SOUTH_LATITUDE: 48 15 0.00000
PRODUCTION_DATE: 1997 2 27
RASTER_ORDER: LEFT_RIGHT/TOP_BOTTOM
BAND_ORGANIZATION: SINGLE FILE
BAND_CONTENT: BLACK&WHITE
BAND_CONTENT: UNDEFINED
BAND_CONTENT: UNDEFINED
BITS_PER_PIXEL: 8
SAMPLES_AND_LINES: 5464 7656
HORIZONTAL_DATUM: NAD83
HORIZONTAL_COORDINATE_SYSTEM: UTM
COORDINATE_ZONE: 11
HORIZONTAL_UNITS: METERS
HORIZONTAL_RESOLUTION: 1.00000
SECONDARY_HORIZONTAL_DATUM: NAD27
XY_ORIGIN: 620107.00000 5352711.00000
SECONDARY_XY_ORIGIN: 620184.00000 5352499.00000
NATION: US
STATE: MT
NW_QUAD_CORNER_XY: 620481.97300 5352310.31500
NE_QUAD_CORNER_XY: 625115.74500 5352410.37400
SE_QUAD_CORNERY_XY: 625268.50300 5345463.75800
SW_QUAD_CORNER_XY: 620629.07100 5345363.67400
SECONDARY_NW_QUAD_XY: 620485.79000 5352091.41100
SECONDARY_NE_QUAD_XY: 625119.70800 5352191.47300
SECONDARY_SE_QUAD_XY: 625272.46600 5345244.86800
SECONDARY_SW_QUAD_XY: 620632.88700 5345144.78100
RMSE_XY: 1.50000
IMAGE_SOURCE: BLACK AND WHITE FILM
SOURCE_IMAGE_ID: NAPP 8418 24
SOURCE_IMAGE_DATE: 1995 8 5
SOURCE_DEM_DATE: 1997 2 27
AGENCY: WESTERN MAPPING CENTER (WMC)
PRODUCER: USFS
PRODUCTION_SYSTEM: DV2.6.3 10/9OV2.4 5/95
COMPRESSION: UNDEFINED
STANDARD_VERSION: 1996 12
METADATA_DATE: 1997 11 2
DATA_FILE_SIZE: 41837848
BYTE_COUNT: 5464
