FILENAME: O4811546.NES.56497.tif
QUADRANGLE_NAME: TONY PEAK
QUADRANT: NE
WEST_LONGITUDE: -115 18 45.00000
EAST_LONGITUDE: -115 15 0.00000
NORTH_LATITUDE: 48 22 30.00000
SOUTH_LATITUDE: 48 18 45.00000
PRODUCTION_DATE: 1997 2 27
RASTER_ORDER: LEFT_RIGHT/TOP_BOTTOM
BAND_ORGANIZATION: SINGLE FILE
BAND_CONTENT: BLACK&WHITE
BAND_CONTENT: UNDEFINED
BAND_CONTENT: UNDEFINED
BITS_PER_PIXEL: 8
SAMPLES_AND_LINES: 5460 7660
HORIZONTAL_DATUM: NAD83
HORIZONTAL_COORDINATE_SYSTEM: UTM
COORDINATE_ZONE: 11
HORIZONTAL_UNITS: METERS
HORIZONTAL_RESOLUTION: 1.00000
SECONDARY_HORIZONTAL_DATUM: NAD27
XY_ORIGIN: 624588.00000 5359762.00000
SECONDARY_XY_ORIGIN: 624665.00000 5359550.00000
NATION: US
STATE: MT
NW_QUAD_CORNER_XY: 624962.83700 5359357.05900
NE_QUAD_CORNER_XY: 629590.92600 5359460.86900
SE_QUAD_CORNERY_XY: 629749.50000 5352514.21000
SW_QUAD_CORNER_XY: 625115.74500 5352410.37400
SECONDARY_NW_QUAD_XY: 624966.80000 5359138.14800
SECONDARY_NE_QUAD_XY: 629595.03600 5359241.96100
SECONDARY_SE_QUAD_XY: 629753.60900 5352295.31200
SECONDARY_SW_QUAD_XY: 625119.70800 5352191.47300
RMSE_XY: 3.20000
IMAGE_SOURCE: BLACK AND WHITE FILM
SOURCE_IMAGE_ID: NAPP 8418 97
SOURCE_IMAGE_DATE: 1995 8 5
SOURCE_DEM_DATE: 1997 2 27
AGENCY: WESTERN MAPPING CENTER (WMC)
PRODUCER: USFS
PRODUCTION_SYSTEM: DV2.6.3 10/9OV2.4 5/95
COMPRESSION: UNDEFINED
STANDARD_VERSION: 1996 12
METADATA_DATE: 1997 11 2
DATA_FILE_SIZE: 41829060
BYTE_COUNT: 5460
