FILENAME: O4811547.SES.56456.tif
QUADRANGLE_NAME: RICHARDS MOUNTAIN
QUADRANT: SE
WEST_LONGITUDE: -115 11 15.00000
EAST_LONGITUDE: -115 7 30.00000
NORTH_LATITUDE: 48 18 45.00000
SOUTH_LATITUDE: 48 15 0.00000
PRODUCTION_DATE: 1997 3 5
RASTER_ORDER: LEFT_RIGHT/TOP_BOTTOM
BAND_ORGANIZATION: SINGLE FILE
BAND_CONTENT: BLACK&WHITE
BAND_CONTENT: UNDEFINED
BAND_CONTENT: UNDEFINED
BITS_PER_PIXEL: 8
SAMPLES_AND_LINES: 5481 7668
HORIZONTAL_DATUM: NAD83
HORIZONTAL_COORDINATE_SYSTEM: UTM
COORDINATE_ZONE: 11
HORIZONTAL_UNITS: METERS
HORIZONTAL_RESOLUTION: 1.00000
SECONDARY_HORIZONTAL_DATUM: NAD27
XY_ORIGIN: 634009.00000 5353038.00000
SECONDARY_XY_ORIGIN: 634086.70000 5352825.55000
NATION: US
STATE: MT
NW_QUAD_CORNER_XY: 634383.30000 5352621.78000
NE_QUAD_CORNER_XY: 639017.02000 5352733.18000
SE_QUAD_CORNERY_XY: 639186.76000 5345786.64000
SW_QUAD_CORNER_XY: 634547.38000 5345675.22000
SECONDARY_NW_QUAD_XY: 634387.56000 5352402.89000
SECONDARY_NE_QUAD_XY: 639021.43000 5352514.28000
SECONDARY_SE_QUAD_XY: 639191.17000 5345567.76000
SECONDARY_SW_QUAD_XY: 634551.64000 5345456.34000
RMSE_XY: 3.60000
IMAGE_SOURCE: BLACK AND WHITE FILM
SOURCE_IMAGE_ID: NAPP 8420 162
SOURCE_IMAGE_DATE: 1995 8 20
SOURCE_IMAGE_ID: NAPP 8420 160
SOURCE_IMAGE_DATE: 1995 8 20
SOURCE_DEM_DATE: 1997 3 5
AGENCY: WESTERN MAPPING CENTER (WMC)
PRODUCER: USFS
PRODUCTION_SYSTEM: DV2.6.3 10/9OV2.4 5/95
COMPRESSION: UNDEFINED
STANDARD_VERSION: 1996 12
METADATA_DATE: 1997 11 2
DATA_FILE_SIZE: 42033789
BYTE_COUNT: 5481
