FILENAME: O4811547.NES.56457.tif
QUADRANGLE_NAME: RICHARDS MOUNTAIN
QUADRANT: NE
WEST_LONGITUDE: -115 11 15.00000
EAST_LONGITUDE: -115 7 30.00000
NORTH_LATITUDE: 48 22 30.00000
SOUTH_LATITUDE: 48 18 45.00000
PRODUCTION_DATE: 1997 3 5
RASTER_ORDER: LEFT_RIGHT/TOP_BOTTOM
BAND_ORGANIZATION: SINGLE FILE
BAND_CONTENT: BLACK&WHITE
BAND_CONTENT: UNDEFINED
BAND_CONTENT: UNDEFINED
BITS_PER_PIXEL: 8
SAMPLES_AND_LINES: 5472 7668
HORIZONTAL_DATUM: NAD83
HORIZONTAL_COORDINATE_SYSTEM: UTM
COORDINATE_ZONE: 11
HORIZONTAL_UNITS: METERS
HORIZONTAL_RESOLUTION: 1.00000
SECONDARY_HORIZONTAL_DATUM: NAD27
XY_ORIGIN: 633845.00000 5359981.00000
SECONDARY_XY_ORIGIN: 633922.68700 5359768.50900
NATION: US
STATE: MT
NW_QUAD_CORNER_XY: 634218.99600 5359568.45500
NE_QUAD_CORNER_XY: 638847.04800 5359679.81900
SE_QUAD_CORNERY_XY: 639016.95600 5352733.21600
SW_QUAD_CORNER_XY: 634383.23700 5352621.82400
SECONDARY_NW_QUAD_XY: 634223.25300 5359349.55100
SECONDARY_NE_QUAD_XY: 638851.45200 5359460.91900
SECONDARY_SE_QUAD_XY: 639021.35900 5352514.32500
SECONDARY_SW_QUAD_XY: 634387.49300 5352402.93000
RMSE_XY: 3.70000
IMAGE_SOURCE: BLACK AND WHITE FILM
SOURCE_IMAGE_ID: NAPP 8420 160
SOURCE_IMAGE_DATE: 1995 8 20
SOURCE_DEM_DATE: 1997 3 5
AGENCY: WESTERN MAPPING CENTER (WMC)
PRODUCER: USFS
PRODUCTION_SYSTEM: DV2.6.3 10/9OV2.4 5/95
COMPRESSION: UNDEFINED
STANDARD_VERSION: 1996 12
METADATA_DATE: 1997 11 2
DATA_FILE_SIZE: 41964768
BYTE_COUNT: 5472
