FILENAME: O4811548.NES.56420.tif
QUADRANGLE_NAME: WOLF PRAIRIE
QUADRANT: NE
WEST_LONGITUDE: -115 3 45.00000
EAST_LONGITUDE: -115 0 0.00000
NORTH_LATITUDE: 48 22 30.00000
SOUTH_LATITUDE: 48 18 45.00000
PRODUCTION_DATE: 1997 3 8
RASTER_ORDER: LEFT_RIGHT/TOP_BOTTOM
BAND_ORGANIZATION: SINGLE FILE
BAND_CONTENT: BLACK&WHITE
BAND_CONTENT: UNDEFINED
BAND_CONTENT: UNDEFINED
BITS_PER_PIXEL: 8
SAMPLES_AND_LINES: 5484 7675
HORIZONTAL_DATUM: NAD83
HORIZONTAL_COORDINATE_SYSTEM: UTM
COORDINATE_ZONE: 11
HORIZONTAL_UNITS: METERS
HORIZONTAL_RESOLUTION: 1.00000
SECONDARY_HORIZONTAL_DATUM: NAD27
XY_ORIGIN: 643101.00000 5360215.00000
SECONDARY_XY_ORIGIN: 643178.00000 5360003.00000
NATION: US
STATE: MT
NW_QUAD_CORNER_XY: 643475.08100 5359794.96000
NE_QUAD_CORNER_XY: 648103.09300 5359913.87900
SE_QUAD_CORNERY_XY: 648284.33500 5352967.33500
SW_QUAD_CORNER_XY: 643650.65500 5352848.38600
SECONDARY_NW_QUAD_XY: 643479.63100 5359576.06300
SECONDARY_NE_QUAD_XY: 648107.79000 5359694.98600
SECONDARY_SE_QUAD_XY: 648289.03200 5352748.45200
SECONDARY_SW_QUAD_XY: 643655.20500 5352629.49900
RMSE_XY: 3.90000
IMAGE_SOURCE: BLACK AND WHITE FILM
SOURCE_IMAGE_ID: NAPP 8420 22
SOURCE_IMAGE_DATE: 1995 8 20
SOURCE_DEM_DATE: 1997 3 8
AGENCY: WESTERN MAPPING CENTER (WMC)
PRODUCER: USFS
PRODUCTION_SYSTEM: DV2.6.3 10/9OV2.4 5/95
COMPRESSION: UNDEFINED
STANDARD_VERSION: 1996 12
METADATA_DATE: 1997 11 2
DATA_FILE_SIZE: 42095184
BYTE_COUNT: 5484
