FILENAME: O4811550.SWS.56693.tif
QUADRANGLE_NAME: IBEX PEAK
QUADRANT: SW
WEST_LONGITUDE: -115 52 30.00000
EAST_LONGITUDE: -115 48 45.00000
NORTH_LATITUDE: 48 11 15.00000
SOUTH_LATITUDE: 48 7 30.00000
PRODUCTION_DATE: 1997 2 20
RASTER_ORDER: LEFT_RIGHT/TOP_BOTTOM
BAND_ORGANIZATION: SINGLE FILE
BAND_CONTENT: BLACK&WHITE
BAND_CONTENT: UNDEFINED
BAND_CONTENT: UNDEFINED
BITS_PER_PIXEL: 8
SAMPLES_AND_LINES: 5429 7629
HORIZONTAL_DATUM: NAD83
HORIZONTAL_COORDINATE_SYSTEM: UTM
COORDINATE_ZONE: 11
HORIZONTAL_UNITS: METERS
HORIZONTAL_RESOLUTION: 1.00000
SECONDARY_HORIZONTAL_DATUM: NAD27
XY_ORIGIN: 583240.00000 5338127.00000
SECONDARY_XY_ORIGIN: 583316.69000 5337915.99000
NATION: US
STATE: MT
NW_QUAD_CORNER_XY: 583614.88000 5337752.24000
NE_QUAD_CORNER_XY: 588260.08000 5337822.12000
SE_QUAD_CORNERY_XY: 588367.35000 5330875.48000
SW_QUAD_CORNER_XY: 583716.50000 5330805.58000
SECONDARY_NW_QUAD_XY: 583617.52000 5337533.34000
SECONDARY_NE_QUAD_XY: 588262.86000 5337603.22000
SECONDARY_SE_QUAD_XY: 588370.14000 5330656.59000
SECONDARY_SW_QUAD_XY: 583719.15000 5330586.69000
RMSE_XY: 1.10000
IMAGE_SOURCE: BLACK AND WHITE FILM
SOURCE_IMAGE_ID: NAPP 8421 203
SOURCE_IMAGE_DATE: 1995 8 21
SOURCE_IMAGE_ID: NAPP 8421 205
SOURCE_IMAGE_DATE: 1995 8 21
SOURCE_DEM_DATE: 1997 2 20
AGENCY: WESTERN MAPPING CENTER (WMC)
PRODUCER: USFS
PRODUCTION_SYSTEM: DV2.6.3 10/9OV2.4 5/95
COMPRESSION: UNDEFINED
STANDARD_VERSION: 1996 12
METADATA_DATE: 1997 11 2
DATA_FILE_SIZE: 41423270
BYTE_COUNT: 5429
