FILENAME: O4811550.SES.56671.tif
QUADRANGLE_NAME: IBEX PEAK
QUADRANT: SE
WEST_LONGITUDE: -115 48 45.00000
EAST_LONGITUDE: -115 45 0.00000
NORTH_LATITUDE: 48 11 15.00000
SOUTH_LATITUDE: 48 7 30.00000
PRODUCTION_DATE: 1997 2 20
RASTER_ORDER: LEFT_RIGHT/TOP_BOTTOM
BAND_ORGANIZATION: SINGLE FILE
BAND_CONTENT: BLACK&WHITE
BAND_CONTENT: UNDEFINED
BAND_CONTENT: UNDEFINED
BITS_PER_PIXEL: 8
SAMPLES_AND_LINES: 5433 7633
HORIZONTAL_DATUM: NAD83
HORIZONTAL_COORDINATE_SYSTEM: UTM
COORDINATE_ZONE: 11
HORIZONTAL_UNITS: METERS
HORIZONTAL_RESOLUTION: 1.00000
SECONDARY_HORIZONTAL_DATUM: NAD27
XY_ORIGIN: 587885.00000 5338201.00000
SECONDARY_XY_ORIGIN: 587961.79000 5337989.84000
NATION: US
STATE: MT
NW_QUAD_CORNER_XY: 588260.08000 5337822.12000
NE_QUAD_CORNER_XY: 592905.26000 5337895.78000
SE_QUAD_CORNERY_XY: 593018.18000 5330949.15000
SW_QUAD_CORNER_XY: 588367.35000 5330875.48000
SECONDARY_NW_QUAD_XY: 588262.86000 5337603.22000
SECONDARY_NE_QUAD_XY: 592908.20000 5337676.88000
SECONDARY_SE_QUAD_XY: 593021.11000 5330730.26000
SECONDARY_SW_QUAD_XY: 588370.14000 5330656.59000
RMSE_XY: 1.10000
IMAGE_SOURCE: BLACK AND WHITE FILM
SOURCE_IMAGE_ID: NAPP 8421 151
SOURCE_IMAGE_DATE: 1995 8 20
SOURCE_IMAGE_ID: NAPP 8421 149
SOURCE_IMAGE_DATE: 1995 8 20
SOURCE_IMAGE_ID: NAPP 8421 8419
SOURCE_IMAGE_DATE: 1995 8 20
SOURCE_DEM_DATE: 1997 2 20
AGENCY: WESTERN MAPPING CENTER (WMC)
PRODUCER: USFS
PRODUCTION_SYSTEM: DV2.6.3 10/9OV2.4 5/95
COMPRESSION: UNDEFINED
STANDARD_VERSION: 1996 12
METADATA_DATE: 1997 11 2
DATA_FILE_SIZE: 41475522
BYTE_COUNT: 5433
