FILENAME: O4811550.NWS.56694.tif
QUADRANGLE_NAME: IBEX PEAK
QUADRANT: NW
WEST_LONGITUDE: -115 52 30.00000
EAST_LONGITUDE: -115 48 45.00000
NORTH_LATITUDE: 48 15 0.00000
SOUTH_LATITUDE: 48 11 15.00000
PRODUCTION_DATE: 1997 2 21
RASTER_ORDER: LEFT_RIGHT/TOP_BOTTOM
BAND_ORGANIZATION: SINGLE FILE
BAND_CONTENT: BLACK&WHITE
BAND_CONTENT: UNDEFINED
BAND_CONTENT: UNDEFINED
BITS_PER_PIXEL: 8
SAMPLES_AND_LINES: 5424 7628
HORIZONTAL_DATUM: NAD83
HORIZONTAL_COORDINATE_SYSTEM: UTM
COORDINATE_ZONE: 11
HORIZONTAL_UNITS: METERS
HORIZONTAL_RESOLUTION: 1.00000
SECONDARY_HORIZONTAL_DATUM: NAD27
XY_ORIGIN: 583138.00000 5345070.00000
SECONDARY_XY_ORIGIN: 583214.00000 5344859.00000
NATION: US
STATE: MT
NW_QUAD_CORNER_XY: 583513.08700 5344699.01400
NE_QUAD_CORNER_XY: 588152.63100 5344768.87600
SE_QUAD_CORNERY_XY: 588260.00800 5337822.16000
SW_QUAD_CORNER_XY: 583614.81200 5337752.28200
SECONDARY_NW_QUAD_XY: 583515.72900 5344480.10000
SECONDARY_NE_QUAD_XY: 588155.41900 5344549.96400
SECONDARY_SE_QUAD_XY: 588262.79700 5337603.26000
SECONDARY_SW_QUAD_XY: 583617.45400 5337533.38000
RMSE_XY: 3.20000
IMAGE_SOURCE: BLACK AND WHITE FILM
SOURCE_IMAGE_ID: NAPP 8421 201
SOURCE_IMAGE_DATE: 1995 8 21
SOURCE_DEM_DATE: 1997 2 21
AGENCY: WESTERN MAPPING CENTER (WMC)
PRODUCER: USFS
PRODUCTION_SYSTEM: DV2.6.3 10/9OV2.4 5/95
COMPRESSION: UNDEFINED
STANDARD_VERSION: 1996 12
METADATA_DATE: 1997 11 2
DATA_FILE_SIZE: 41379696
BYTE_COUNT: 5424
