FILENAME: O4811551.NWS.56650.tif
QUADRANGLE_NAME: SNOWSHOE PEAK
QUADRANT: NW
WEST_LONGITUDE: -115 45 0.00000
EAST_LONGITUDE: -115 41 15.00000
NORTH_LATITUDE: 48 15 0.00000
SOUTH_LATITUDE: 48 11 15.00000
PRODUCTION_DATE: 1997 3 5
RASTER_ORDER: LEFT_RIGHT/TOP_BOTTOM
BAND_ORGANIZATION: SINGLE FILE
BAND_CONTENT: BLACK&WHITE
BAND_CONTENT: UNDEFINED
BAND_CONTENT: UNDEFINED
BITS_PER_PIXEL: 8
SAMPLES_AND_LINES: 5433 7636
HORIZONTAL_DATUM: NAD83
HORIZONTAL_COORDINATE_SYSTEM: UTM
COORDINATE_ZONE: 11
HORIZONTAL_UNITS: METERS
HORIZONTAL_RESOLUTION: 1.00000
SECONDARY_HORIZONTAL_DATUM: NAD27
XY_ORIGIN: 592417.00000 5345225.00000
SECONDARY_XY_ORIGIN: 592493.60000 5345013.31000
NATION: US
STATE: MT
NW_QUAD_CORNER_XY: 592792.23000 5344842.47000
NE_QUAD_CORNER_XY: 597431.75000 5344919.89000
SE_QUAD_CORNERY_XY: 597550.43000 5337973.21000
SW_QUAD_CORNER_XY: 592905.26000 5337895.78000
SECONDARY_NW_QUAD_XY: 592795.16000 5344623.56000
SECONDARY_NE_QUAD_XY: 597434.83000 5344700.98000
SECONDARY_SE_QUAD_XY: 597553.51000 5337754.32000
SECONDARY_SW_QUAD_XY: 592908.20000 5337676.88000
RMSE_XY: 2.80000
IMAGE_SOURCE: BLACK AND WHITE FILM
SOURCE_IMAGE_ID: NAPP 8419 28
SOURCE_IMAGE_DATE: 1995 8 21
SOURCE_IMAGE_ID: NAPP 8419 27
SOURCE_IMAGE_DATE: 1995 8 21
SOURCE_IMAGE_ID: NAPP 8419 29
SOURCE_IMAGE_DATE: 1995 8 21
SOURCE_IMAGE_ID: NAPP 8419 8421
SOURCE_IMAGE_DATE: 1995 8 21
SOURCE_DEM_DATE: 1997 3 5
AGENCY: WESTERN MAPPING CENTER (WMC)
PRODUCER: USFS
PRODUCTION_SYSTEM: DV2.6.3 10/9OV2.4 5/95
COMPRESSION: UNDEFINED
STANDARD_VERSION: 1996 12
METADATA_DATE: 1997 11 2
DATA_FILE_SIZE: 41491821
BYTE_COUNT: 5433
