FILENAME: O4811551.NES.56626.tif
QUADRANGLE_NAME: SNOWSHOE PEAK
QUADRANT: NE
WEST_LONGITUDE: -115 41 15.00000
EAST_LONGITUDE: -115 37 30.00000
NORTH_LATITUDE: 48 15 0.00000
SOUTH_LATITUDE: 48 11 15.00000
PRODUCTION_DATE: 1997 3 10
RASTER_ORDER: LEFT_RIGHT/TOP_BOTTOM
BAND_ORGANIZATION: SINGLE FILE
BAND_CONTENT: BLACK&WHITE
BAND_CONTENT: UNDEFINED
BAND_CONTENT: UNDEFINED
BITS_PER_PIXEL: 8
SAMPLES_AND_LINES: 5441 7639
HORIZONTAL_DATUM: NAD83
HORIZONTAL_COORDINATE_SYSTEM: UTM
COORDINATE_ZONE: 11
HORIZONTAL_UNITS: METERS
HORIZONTAL_RESOLUTION: 1.00000
SECONDARY_HORIZONTAL_DATUM: NAD27
XY_ORIGIN: 597057.00000 5345306.00000
SECONDARY_XY_ORIGIN: 597133.76000 5345094.06000
NATION: US
STATE: MT
NW_QUAD_CORNER_XY: 597431.75000 5344919.89000
NE_QUAD_CORNER_XY: 602071.26000 5345001.08000
SE_QUAD_CORNERY_XY: 602195.59000 5338054.42000
SW_QUAD_CORNER_XY: 597550.43000 5337973.21000
SECONDARY_NW_QUAD_XY: 597434.83000 5344700.98000
SECONDARY_NE_QUAD_XY: 602074.48000 5344782.18000
SECONDARY_SE_QUAD_XY: 602198.82000 5337835.53000
SECONDARY_SW_QUAD_XY: 597553.51000 5337754.32000
RMSE_XY: 3.70000
IMAGE_SOURCE: BLACK AND WHITE FILM
SOURCE_IMAGE_ID: NAPP 8421 118
SOURCE_IMAGE_DATE: 1995 8 20
SOURCE_IMAGE_ID: NAPP 8421 117
SOURCE_IMAGE_DATE: 1995 8 20
SOURCE_IMAGE_ID: NAPP 8421 119
SOURCE_IMAGE_DATE: 1995 8 20
SOURCE_DEM_DATE: 1997 3 10
AGENCY: WESTERN MAPPING CENTER (WMC)
PRODUCER: USFS
PRODUCTION_SYSTEM: DV2.6.3 10/9OV2.4 5/95
COMPRESSION: UNDEFINED
STANDARD_VERSION: 1996 12
METADATA_DATE: 1997 11 2
DATA_FILE_SIZE: 41569240
BYTE_COUNT: 5441
