FILENAME: O4811552.SWS.56601.tif
QUADRANGLE_NAME: CABLE MOUNTAIN
QUADRANT: SW
WEST_LONGITUDE: -115 37 30.00000
EAST_LONGITUDE: -115 33 45.00000
NORTH_LATITUDE: 48 11 15.00000
SOUTH_LATITUDE: 48 7 30.00000
PRODUCTION_DATE: 1997 3 17
RASTER_ORDER: LEFT_RIGHT/TOP_BOTTOM
BAND_ORGANIZATION: SINGLE FILE
BAND_CONTENT: BLACK&WHITE
BAND_CONTENT: UNDEFINED
BAND_CONTENT: UNDEFINED
BITS_PER_PIXEL: 8
SAMPLES_AND_LINES: 5452 7642
HORIZONTAL_DATUM: NAD83
HORIZONTAL_COORDINATE_SYSTEM: UTM
COORDINATE_ZONE: 11
HORIZONTAL_UNITS: METERS
HORIZONTAL_RESOLUTION: 1.00000
SECONDARY_HORIZONTAL_DATUM: NAD27
XY_ORIGIN: 601820.00000 5338440.00000
SECONDARY_XY_ORIGIN: 601897.26400 5338228.22300
NATION: US
STATE: MT
NW_QUAD_CORNER_XY: 602195.53000 5338054.46000
NE_QUAD_CORNER_XY: 606840.67000 5338139.46000
SE_QUAD_CORNERY_XY: 606970.53000 5331192.89000
SW_QUAD_CORNER_XY: 602319.74000 5331107.88000
SECONDARY_NW_QUAD_XY: 602198.75000 5337835.57000
SECONDARY_NE_QUAD_XY: 606844.05000 5337920.56000
SECONDARY_SE_QUAD_XY: 606973.91000 5330974.01000
SECONDARY_SW_QUAD_XY: 602322.97000 5330889.00000
RMSE_XY: 2.70000
IMAGE_SOURCE: BLACK AND WHITE FILM
SOURCE_IMAGE_ID: NAPP 8421 89
SOURCE_IMAGE_DATE: 1995 8 20
SOURCE_DEM_DATE: 1997 3 17
AGENCY: WESTERN MAPPING CENTER (WMC)
PRODUCER: USFS
PRODUCTION_SYSTEM: DV2.6.3 10/9OV2.4 5/95
COMPRESSION: UNDEFINED
STANDARD_VERSION: 1996 12
METADATA_DATE: 1997 11 2
DATA_FILE_SIZE: 41669636
BYTE_COUNT: 5452
