FILENAME: O4811552.SES.56579.tif
QUADRANGLE_NAME: CABLE MOUNTAIN
QUADRANT: SE
WEST_LONGITUDE: -115 33 45.00000
EAST_LONGITUDE: -115 30 0.00000
NORTH_LATITUDE: 48 11 15.00000
SOUTH_LATITUDE: 48 7 30.00000
PRODUCTION_DATE: 1997 3 17
RASTER_ORDER: LEFT_RIGHT/TOP_BOTTOM
BAND_ORGANIZATION: SINGLE FILE
BAND_CONTENT: BLACK&WHITE
BAND_CONTENT: UNDEFINED
BAND_CONTENT: UNDEFINED
BITS_PER_PIXEL: 8
SAMPLES_AND_LINES: 5457 7646
HORIZONTAL_DATUM: NAD83
HORIZONTAL_COORDINATE_SYSTEM: UTM
COORDINATE_ZONE: 11
HORIZONTAL_UNITS: METERS
HORIZONTAL_RESOLUTION: 1.00000
SECONDARY_HORIZONTAL_DATUM: NAD27
XY_ORIGIN: 606466.00000 5338533.00000
SECONDARY_XY_ORIGIN: 606543.45000 5338320.99000
NATION: US
STATE: MT
NW_QUAD_CORNER_XY: 606840.74000 5338139.41000
NE_QUAD_CORNER_XY: 611485.87000 5338228.18000
SE_QUAD_CORNERY_XY: 611621.38000 5331281.64000
SW_QUAD_CORNER_XY: 606970.60000 5331192.85000
SECONDARY_NW_QUAD_XY: 606844.11000 5337920.52000
SECONDARY_NE_QUAD_XY: 611489.39000 5338009.30000
SECONDARY_SE_QUAD_XY: 611624.90000 5331062.76000
SECONDARY_SW_QUAD_XY: 606973.98000 5330973.97000
RMSE_XY: 2.70000
IMAGE_SOURCE: BLACK AND WHITE FILM
SOURCE_IMAGE_ID: NAPP 8422 64
SOURCE_IMAGE_DATE: 1995 7 28
SOURCE_IMAGE_ID: NAPP 8422 66
SOURCE_IMAGE_DATE: 1995 7 28
SOURCE_DEM_DATE: 1997 3 17
AGENCY: WESTERN MAPPING CENTER (WMC)
PRODUCER: USFS
PRODUCTION_SYSTEM: DV2.6.3 10/9OV2.4 5/95
COMPRESSION: UNDEFINED
STANDARD_VERSION: 1996 12
METADATA_DATE: 1997 11 3
DATA_FILE_SIZE: 41729679
BYTE_COUNT: 5457
