FILENAME: O4811552.NWS.56602.tif
QUADRANGLE_NAME: CABLE MOUNTAIN
QUADRANT: NW
WEST_LONGITUDE: -115 37 30.00000
EAST_LONGITUDE: -115 33 45.00000
NORTH_LATITUDE: 48 15 0.00000
SOUTH_LATITUDE: 48 11 15.00000
PRODUCTION_DATE: 1997 3 18
RASTER_ORDER: LEFT_RIGHT/TOP_BOTTOM
BAND_ORGANIZATION: SINGLE FILE
BAND_CONTENT: BLACK&WHITE
BAND_CONTENT: UNDEFINED
BAND_CONTENT: UNDEFINED
BITS_PER_PIXEL: 8
SAMPLES_AND_LINES: 5444 7642
HORIZONTAL_DATUM: NAD83
HORIZONTAL_COORDINATE_SYSTEM: UTM
COORDINATE_ZONE: 11
HORIZONTAL_UNITS: METERS
HORIZONTAL_RESOLUTION: 1.00000
SECONDARY_HORIZONTAL_DATUM: NAD27
XY_ORIGIN: 601696.00000 5345387.00000
SECONDARY_XY_ORIGIN: 601772.91900 5345174.81500
NATION: US
STATE: MT
NW_QUAD_CORNER_XY: 602071.19000 5345001.12000
NE_QUAD_CORNER_XY: 606710.68000 5345086.09000
SE_QUAD_CORNERY_XY: 606840.67000 5338139.46000
SW_QUAD_CORNER_XY: 602195.53000 5338054.46000
SECONDARY_NW_QUAD_XY: 602074.42000 5344782.22000
SECONDARY_NE_QUAD_XY: 606714.06000 5344867.19000
SECONDARY_SE_QUAD_XY: 606844.05000 5337920.56000
SECONDARY_SW_QUAD_XY: 602198.75000 5337835.57000
RMSE_XY: 2.60000
IMAGE_SOURCE: BLACK AND WHITE FILM
SOURCE_IMAGE_ID: NAPP 8421 91
SOURCE_IMAGE_DATE: 1995 8 20
SOURCE_DEM_DATE: 1997 3 18
AGENCY: WESTERN MAPPING CENTER (WMC)
PRODUCER: USFS
PRODUCTION_SYSTEM: DV2.6.3 10/9OV2.4 5/95
COMPRESSION: UNDEFINED
STANDARD_VERSION: 1996 12
METADATA_DATE: 1997 11 2
DATA_FILE_SIZE: 41608492
BYTE_COUNT: 5444
