FILENAME: O4811552.NES.56580.tif
QUADRANGLE_NAME: CABLE MOUNTAIN
QUADRANT: NE
WEST_LONGITUDE: -115 33 45.00000
EAST_LONGITUDE: -115 30 0.00000
NORTH_LATITUDE: 48 15 0.00000
SOUTH_LATITUDE: 48 11 15.00000
PRODUCTION_DATE: 1997 3 17
RASTER_ORDER: LEFT_RIGHT/TOP_BOTTOM
BAND_ORGANIZATION: SINGLE FILE
BAND_CONTENT: BLACK&WHITE
BAND_CONTENT: UNDEFINED
BAND_CONTENT: UNDEFINED
BITS_PER_PIXEL: 8
SAMPLES_AND_LINES: 5452 7645
HORIZONTAL_DATUM: NAD83
HORIZONTAL_COORDINATE_SYSTEM: UTM
COORDINATE_ZONE: 11
HORIZONTAL_UNITS: METERS
HORIZONTAL_RESOLUTION: 1.00000
SECONDARY_HORIZONTAL_DATUM: NAD27
XY_ORIGIN: 606336.00000 5345476.00000
SECONDARY_XY_ORIGIN: 606413.08100 5345263.56600
NATION: US
STATE: MT
NW_QUAD_CORNER_XY: 606710.68100 5345086.09400
NE_QUAD_CORNER_XY: 611350.15900 5345174.84300
SE_QUAD_CORNERY_XY: 611485.80400 5338228.22600
SW_QUAD_CORNER_XY: 606840.67200 5338139.45500
SECONDARY_NW_QUAD_XY: 606714.05600 5344867.19200
SECONDARY_NE_QUAD_XY: 611353.68200 5344955.94400
SECONDARY_SE_QUAD_XY: 611489.32600 5338009.33900
SECONDARY_SW_QUAD_XY: 606844.04700 5337920.56500
RMSE_XY: 1.90000
IMAGE_SOURCE: BLACK AND WHITE FILM
SOURCE_IMAGE_ID: NAPP 8422 66
SOURCE_IMAGE_DATE: 1995 7 28
SOURCE_DEM_DATE: 1997 3 17
AGENCY: WESTERN MAPPING CENTER (WMC)
PRODUCER: USFS
PRODUCTION_SYSTEM: DV2.6.3 10/9OV2.4 5/95
COMPRESSION: UNDEFINED
STANDARD_VERSION: 1996 12
METADATA_DATE: 1997 11 3
DATA_FILE_SIZE: 41685992
BYTE_COUNT: 5452
