FILENAME: O4811553.SES.56535.tif
QUADRANGLE_NAME: HORSE MOUNTAIN
QUADRANT: SE
WEST_LONGITUDE: -115 26 15.00000
EAST_LONGITUDE: -115 22 30.00000
NORTH_LATITUDE: 48 11 15.00000
SOUTH_LATITUDE: 48 7 30.00000
PRODUCTION_DATE: 1997 3 24
RASTER_ORDER: LEFT_RIGHT/TOP_BOTTOM
BAND_ORGANIZATION: SINGLE FILE
BAND_CONTENT: BLACK&WHITE
BAND_CONTENT: UNDEFINED
BAND_CONTENT: UNDEFINED
BITS_PER_PIXEL: 8
SAMPLES_AND_LINES: 5468 7653
HORIZONTAL_DATUM: NAD83
HORIZONTAL_COORDINATE_SYSTEM: UTM
COORDINATE_ZONE: 11
HORIZONTAL_UNITS: METERS
HORIZONTAL_RESOLUTION: 1.00000
SECONDARY_HORIZONTAL_DATUM: NAD27
XY_ORIGIN: 615756.00000 5338718.00000
SECONDARY_XY_ORIGIN: 615833.72000 5338505.78800
NATION: US
STATE: MT
NW_QUAD_CORNER_XY: 616130.92200 5338320.77500
NE_QUAD_CORNER_XY: 620776.02400 5338417.10300
SE_QUAD_CORNERY_XY: 620922.83300 5331470.60200
SW_QUAD_CORNER_XY: 616272.08100 5331374.25100
SECONDARY_NW_QUAD_XY: 616134.59100 5338101.89100
SECONDARY_NE_QUAD_XY: 620779.84000 5338198.22200
SECONDARY_SE_QUAD_XY: 620926.64800 5331251.73400
SECONDARY_SW_QUAD_XY: 616275.75000 5331155.37900
RMSE_XY: 1.60000
IMAGE_SOURCE: BLACK AND WHITE FILM
SOURCE_IMAGE_ID: NAPP 8421 16
SOURCE_IMAGE_DATE: 1995 8 20
SOURCE_DEM_DATE: 1997 3 24
AGENCY: WESTERN MAPPING CENTER (WMC)
PRODUCER: USFS
PRODUCTION_SYSTEM: DV2.6.3 10/9OV2.4 5/95
COMPRESSION: UNDEFINED
STANDARD_VERSION: 1996 12
METADATA_DATE: 1997 11 3
DATA_FILE_SIZE: 41852072
BYTE_COUNT: 5468
