FILENAME: O4811553.NWS.56558.tif
QUADRANGLE_NAME: HORSE MOUNTAIN
QUADRANT: NW
WEST_LONGITUDE: -115 30 0.00000
EAST_LONGITUDE: -115 26 15.00000
NORTH_LATITUDE: 48 15 0.00000
SOUTH_LATITUDE: 48 11 15.00000
PRODUCTION_DATE: 1997 3 24
RASTER_ORDER: LEFT_RIGHT/TOP_BOTTOM
BAND_ORGANIZATION: SINGLE FILE
BAND_CONTENT: BLACK&WHITE
BAND_CONTENT: UNDEFINED
BAND_CONTENT: UNDEFINED
BITS_PER_PIXEL: 8
SAMPLES_AND_LINES: 5456 7648
HORIZONTAL_DATUM: NAD83
HORIZONTAL_COORDINATE_SYSTEM: UTM
COORDINATE_ZONE: 11
HORIZONTAL_UNITS: METERS
HORIZONTAL_RESOLUTION: 1.00000
SECONDARY_HORIZONTAL_DATUM: NAD27
XY_ORIGIN: 610975.00000 5345568.00000
SECONDARY_XY_ORIGIN: 611052.24400 5345355.31700
NATION: US
STATE: MT
NW_QUAD_CORNER_XY: 611350.15900 5345174.84300
NE_QUAD_CORNER_XY: 615989.62300 5345267.36900
SE_QUAD_CORNERY_XY: 616130.92200 5338320.77500
SW_QUAD_CORNER_XY: 611485.80400 5338228.22600
SECONDARY_NW_QUAD_XY: 611353.68200 5344955.94400
SECONDARY_NE_QUAD_XY: 615993.29200 5345048.47300
SECONDARY_SE_QUAD_XY: 616134.59100 5338101.89100
SECONDARY_SW_QUAD_XY: 611489.32600 5338009.33900
RMSE_XY: 3.20000
IMAGE_SOURCE: BLACK AND WHITE FILM
SOURCE_IMAGE_ID: NAPP 8422 89
SOURCE_IMAGE_DATE: 1995 7 28
SOURCE_DEM_DATE: 1997 3 24
AGENCY: WESTERN MAPPING CENTER (WMC)
PRODUCER: USFS
PRODUCTION_SYSTEM: DV2.6.3 10/9OV2.4 5/95
COMPRESSION: UNDEFINED
STANDARD_VERSION: 1996 12
METADATA_DATE: 1997 11 2
DATA_FILE_SIZE: 41732944
BYTE_COUNT: 5456
