FILENAME: O4811554.SES.56494.tif
QUADRANGLE_NAME: FISHER MOUNTAIN
QUADRANT: SE
WEST_LONGITUDE: -115 18 45.00000
EAST_LONGITUDE: -115 15 0.00000
NORTH_LATITUDE: 48 11 15.00000
SOUTH_LATITUDE: 48 7 30.00000
PRODUCTION_DATE: 1997 3 26
RASTER_ORDER: LEFT_RIGHT/TOP_BOTTOM
BAND_ORGANIZATION: SINGLE FILE
BAND_CONTENT: BLACK&WHITE
BAND_CONTENT: UNDEFINED
BAND_CONTENT: UNDEFINED
BITS_PER_PIXEL: 8
SAMPLES_AND_LINES: 5481 7661
HORIZONTAL_DATUM: NAD83
HORIZONTAL_COORDINATE_SYSTEM: UTM
COORDINATE_ZONE: 11
HORIZONTAL_UNITS: METERS
HORIZONTAL_RESOLUTION: 1.00000
SECONDARY_HORIZONTAL_DATUM: NAD27
XY_ORIGIN: 625046.00000 5338926.00000
SECONDARY_XY_ORIGIN: 625123.86000 5338713.89000
NATION: US
STATE: MT
NW_QUAD_CORNER_XY: 625421.18000 5338517.17000
NE_QUAD_CORNER_XY: 630066.25000 5338621.06000
SE_QUAD_CORNERY_XY: 630224.36000 5331674.60000
SW_QUAD_CORNER_XY: 625573.64000 5331570.69000
SECONDARY_NW_QUAD_XY: 625425.14000 5338298.29000
SECONDARY_NE_QUAD_XY: 630070.36000 5338402.18000
SECONDARY_SE_QUAD_XY: 630228.46000 5331455.74000
SECONDARY_SW_QUAD_XY: 625577.60000 5331351.83000
RMSE_XY: 1.90000
IMAGE_SOURCE: BLACK AND WHITE FILM
SOURCE_IMAGE_ID: NAPP 8418 91
SOURCE_IMAGE_DATE: 1995 8 5
SOURCE_IMAGE_ID: NAPP 8418 93
SOURCE_IMAGE_DATE: 1995 8 5
SOURCE_IMAGE_ID: NAPP 8418 8418
SOURCE_IMAGE_DATE: 1995 8 5
SOURCE_IMAGE_ID: NAPP 8418 28
SOURCE_IMAGE_DATE: 1995 8 5
SOURCE_DEM_DATE: 1997 3 26
AGENCY: WESTERN MAPPING CENTER (WMC)
PRODUCER: USFS
PRODUCTION_SYSTEM: DV2.6.3 10/9OV2.4 5/95
COMPRESSION: UNDEFINED
STANDARD_VERSION: 1996 12
METADATA_DATE: 1997 11 3
DATA_FILE_SIZE: 41995422
BYTE_COUNT: 5481
