FILENAME: O4811554.NWS.56514.tif
QUADRANGLE_NAME: FISHER MOUNTAIN
QUADRANT: NW
WEST_LONGITUDE: -115 22 30.00000
EAST_LONGITUDE: -115 18 45.00000
NORTH_LATITUDE: 48 15 0.00000
SOUTH_LATITUDE: 48 11 15.00000
PRODUCTION_DATE: 1997 3 26
RASTER_ORDER: LEFT_RIGHT/TOP_BOTTOM
BAND_ORGANIZATION: SINGLE FILE
BAND_CONTENT: BLACK&WHITE
BAND_CONTENT: UNDEFINED
BAND_CONTENT: UNDEFINED
BITS_PER_PIXEL: 8
SAMPLES_AND_LINES: 5469 7658
HORIZONTAL_DATUM: NAD83
HORIZONTAL_COORDINATE_SYSTEM: UTM
COORDINATE_ZONE: 11
HORIZONTAL_UNITS: METERS
HORIZONTAL_RESOLUTION: 1.00000
SECONDARY_HORIZONTAL_DATUM: NAD27
XY_ORIGIN: 620254.00000 5345769.00000
SECONDARY_XY_ORIGIN: 620331.52000 5345556.44000
NATION: US
STATE: MT
NW_QUAD_CORNER_XY: 620629.14000 5345363.63000
NE_QUAD_CORNER_XY: 625268.57000 5345463.72000
SE_QUAD_CORNERY_XY: 625421.18000 5338517.17000
SW_QUAD_CORNER_XY: 620776.09000 5338417.06000
SECONDARY_NW_QUAD_XY: 620632.95000 5345144.74000
SECONDARY_NE_QUAD_XY: 625272.53000 5345244.83000
SECONDARY_SE_QUAD_XY: 625425.14000 5338298.29000
SECONDARY_SW_QUAD_XY: 620779.91000 5338198.18000
RMSE_XY: 1.90000
IMAGE_SOURCE: BLACK AND WHITE FILM
SOURCE_IMAGE_ID: NAPP 8418 26
SOURCE_IMAGE_DATE: 1995 8 5
SOURCE_IMAGE_ID: NAPP 8418 28
SOURCE_IMAGE_DATE: 1995 8 5
SOURCE_DEM_DATE: 1997 3 26
AGENCY: WESTERN MAPPING CENTER (WMC)
PRODUCER: USFS
PRODUCTION_SYSTEM: DV2.6.3 10/9OV2.4 5/95
COMPRESSION: UNDEFINED
STANDARD_VERSION: 1996 12
METADATA_DATE: 1997 11 2
DATA_FILE_SIZE: 41887071
BYTE_COUNT: 5469
