FILENAME: O4811555.SES.56454.tif
QUADRANGLE_NAME: CALX MOUNTAIN
QUADRANT: SE
WEST_LONGITUDE: -115 11 15.00000
EAST_LONGITUDE: -115 7 30.00000
NORTH_LATITUDE: 48 11 15.00000
SOUTH_LATITUDE: 48 7 30.00000
PRODUCTION_DATE: 1997 3 15
RASTER_ORDER: LEFT_RIGHT/TOP_BOTTOM
BAND_ORGANIZATION: SINGLE FILE
BAND_CONTENT: BLACK&WHITE
BAND_CONTENT: UNDEFINED
BAND_CONTENT: UNDEFINED
BITS_PER_PIXEL: 8
SAMPLES_AND_LINES: 5489 7669
HORIZONTAL_DATUM: NAD83
HORIZONTAL_COORDINATE_SYSTEM: UTM
COORDINATE_ZONE: 11
HORIZONTAL_UNITS: METERS
HORIZONTAL_RESOLUTION: 1.00000
SECONDARY_HORIZONTAL_DATUM: NAD27
XY_ORIGIN: 634337.00000 5339145.00000
SECONDARY_XY_ORIGIN: 634414.83000 5338932.94000
NATION: US
STATE: MT
NW_QUAD_CORNER_XY: 634711.30000 5338728.72000
NE_QUAD_CORNER_XY: 639356.34000 5338840.17000
SE_QUAD_CORNERY_XY: 639525.74000 5331893.77000
SW_QUAD_CORNER_XY: 634875.06000 5331782.30000
SECONDARY_NW_QUAD_XY: 634715.56000 5338509.85000
SECONDARY_NE_QUAD_XY: 639360.74000 5338621.30000
SECONDARY_SE_QUAD_XY: 639530.15000 5331674.92000
SECONDARY_SW_QUAD_XY: 634879.31000 5331563.44000
RMSE_XY: 3.50000
IMAGE_SOURCE: BLACK AND WHITE FILM
SOURCE_IMAGE_ID: NAPP 8420 166
SOURCE_IMAGE_DATE: 1995 8 20
SOURCE_IMAGE_ID: NAPP 8420 164
SOURCE_IMAGE_DATE: 1995 8 20
SOURCE_DEM_DATE: 1997 3 15
AGENCY: WESTERN MAPPING CENTER (WMC)
PRODUCER: USFS
PRODUCTION_SYSTEM: DV2.6.3 10/9OV2.4 5/95
COMPRESSION: UNDEFINED
STANDARD_VERSION: 1996 12
METADATA_DATE: 1997 11 3
DATA_FILE_SIZE: 42100630
BYTE_COUNT: 5489
